BEGIN:VCALENDAR
VERSION:2.0
PRODID:-//Higher Gravity - ECPv6.15.20//NONSGML v1.0//EN
CALSCALE:GREGORIAN
METHOD:PUBLISH
X-ORIGINAL-URL:https://highergravitycrafthaus.com
X-WR-CALDESC:Events for Higher Gravity
REFRESH-INTERVAL;VALUE=DURATION:PT1H
X-Robots-Tag:noindex
X-PUBLISHED-TTL:PT1H
BEGIN:VTIMEZONE
TZID:America/New_York
BEGIN:DAYLIGHT
TZOFFSETFROM:-0500
TZOFFSETTO:-0400
TZNAME:EDT
DTSTART:20220313T070000
END:DAYLIGHT
BEGIN:STANDARD
TZOFFSETFROM:-0400
TZOFFSETTO:-0500
TZNAME:EST
DTSTART:20221106T060000
END:STANDARD
BEGIN:DAYLIGHT
TZOFFSETFROM:-0500
TZOFFSETTO:-0400
TZNAME:EDT
DTSTART:20230312T070000
END:DAYLIGHT
BEGIN:STANDARD
TZOFFSETFROM:-0400
TZOFFSETTO:-0500
TZNAME:EST
DTSTART:20231105T060000
END:STANDARD
BEGIN:DAYLIGHT
TZOFFSETFROM:-0500
TZOFFSETTO:-0400
TZNAME:EDT
DTSTART:20240310T070000
END:DAYLIGHT
BEGIN:STANDARD
TZOFFSETFROM:-0400
TZOFFSETTO:-0500
TZNAME:EST
DTSTART:20241103T060000
END:STANDARD
END:VTIMEZONE
BEGIN:VEVENT
DTSTART;TZID=America/New_York:20230706T150000
DTEND;TZID=America/New_York:20230727T190000
DTSTAMP:20260419T191410
CREATED:20230614T153519Z
LAST-MODIFIED:20230614T153726Z
UID:10003167-1688655600-1690484400@highergravitycrafthaus.com
SUMMARY:Giveback Thursday's in July: NEST
DESCRIPTION:Giveback Thursday’s are back in July! \nJoin us at Higher Gravity in Northside every Thursday from 3:00 – 7:00 pm to support local not-for-profit\, NEST (Northsiders Engaged in Sustainable Transformation). \nH/G will donate $1 to Caracole for each of the following purchased during the events: \n\nDraft – includes draft beer\, wine\, coffee\, kombucha and root beer\nHouse wine pours\nHouse cocktails\n\nBe sure to checkout details of the great causes NEST supports on their website here. \n 
URL:https://highergravitycrafthaus.com/event/giveback-thursdays-july-nest/2023-07-06/
LOCATION:Northside\, 4106 Hamilton Ave\, Cincinnati\, OH\, 45223\, United States
ATTACH;FMTTYPE=image/png:https://highergravitycrafthaus.com/wp-content/uploads/2023/06/G-veback-Thursdays-2.png
END:VEVENT
END:VCALENDAR