BEGIN:VCALENDAR
VERSION:2.0
PRODID:-//Higher Gravity - ECPv6.15.20//NONSGML v1.0//EN
CALSCALE:GREGORIAN
METHOD:PUBLISH
X-WR-CALNAME:Higher Gravity
X-ORIGINAL-URL:https://highergravitycrafthaus.com
X-WR-CALDESC:Events for Higher Gravity
REFRESH-INTERVAL;VALUE=DURATION:PT1H
X-Robots-Tag:noindex
X-PUBLISHED-TTL:PT1H
BEGIN:VTIMEZONE
TZID:America/New_York
BEGIN:DAYLIGHT
TZOFFSETFROM:-0500
TZOFFSETTO:-0400
TZNAME:EDT
DTSTART:20220313T070000
END:DAYLIGHT
BEGIN:STANDARD
TZOFFSETFROM:-0400
TZOFFSETTO:-0500
TZNAME:EST
DTSTART:20221106T060000
END:STANDARD
BEGIN:DAYLIGHT
TZOFFSETFROM:-0500
TZOFFSETTO:-0400
TZNAME:EDT
DTSTART:20230312T070000
END:DAYLIGHT
BEGIN:STANDARD
TZOFFSETFROM:-0400
TZOFFSETTO:-0500
TZNAME:EST
DTSTART:20231105T060000
END:STANDARD
BEGIN:DAYLIGHT
TZOFFSETFROM:-0500
TZOFFSETTO:-0400
TZNAME:EDT
DTSTART:20240310T070000
END:DAYLIGHT
BEGIN:STANDARD
TZOFFSETFROM:-0400
TZOFFSETTO:-0500
TZNAME:EST
DTSTART:20241103T060000
END:STANDARD
END:VTIMEZONE
BEGIN:VEVENT
DTSTART;TZID=America/New_York:20230811T190000
DTEND;TZID=America/New_York:20230811T220000
DTSTAMP:20260421T193701
CREATED:20230729T192208Z
LAST-MODIFIED:20230729T192208Z
UID:10003171-1691780400-1691791200@highergravitycrafthaus.com
SUMMARY:Bengals Watch Parties
DESCRIPTION:Hey Cincy! Join us in Summit Park this football season to cheer on the Bengals.\n\nOn Saturdays and Sundays from noon – close\, grab a bucket of High Noons for $25 or a Lo-G Pitcher for $15.\n***The same specials will apply during any weekday games.\n\nBring your crew and some takeout and kick it with us!
URL:https://highergravitycrafthaus.com/event/bengals-watch-parties/2023-08-11/
LOCATION:Summit Park\, 10241 Summit Park\, Cincinnati\, OH\, 45242\, United States
CATEGORIES:Sports Bar
END:VEVENT
BEGIN:VEVENT
DTSTART;TZID=America/New_York:20230818T193000
DTEND;TZID=America/New_York:20230818T223000
DTSTAMP:20260421T193701
CREATED:20230729T192208Z
LAST-MODIFIED:20230729T192208Z
UID:10003172-1692387000-1692397800@highergravitycrafthaus.com
SUMMARY:Bengals Watch Parties
DESCRIPTION:Hey Cincy! Join us in Summit Park this football season to cheer on the Bengals.\n\nOn Saturdays and Sundays from noon – close\, grab a bucket of High Noons for $25 or a Lo-G Pitcher for $15.\n***The same specials will apply during any weekday games.\n\nBring your crew and some takeout and kick it with us!
URL:https://highergravitycrafthaus.com/event/bengals-watch-parties/2023-08-18/
LOCATION:Summit Park\, 10241 Summit Park\, Cincinnati\, OH\, 45242\, United States
CATEGORIES:Sports Bar
END:VEVENT
BEGIN:VEVENT
DTSTART;TZID=America/New_York:20230826T180500
DTEND;TZID=America/New_York:20230826T210000
DTSTAMP:20260421T193701
CREATED:20230729T192208Z
LAST-MODIFIED:20230729T192208Z
UID:10003173-1693073100-1693083600@highergravitycrafthaus.com
SUMMARY:Bengals Watch Parties
DESCRIPTION:Hey Cincy! Join us in Summit Park this football season to cheer on the Bengals.\n\nOn Saturdays and Sundays from noon – close\, grab a bucket of High Noons for $25 or a Lo-G Pitcher for $15.\n***The same specials will apply during any weekday games.\n\nBring your crew and some takeout and kick it with us!
URL:https://highergravitycrafthaus.com/event/bengals-watch-parties/2023-08-26/
LOCATION:Summit Park\, 10241 Summit Park\, Cincinnati\, OH\, 45242\, United States
CATEGORIES:Sports Bar
END:VEVENT
END:VCALENDAR