BEGIN:VCALENDAR
VERSION:2.0
PRODID:-//Higher Gravity - ECPv6.15.20//NONSGML v1.0//EN
CALSCALE:GREGORIAN
METHOD:PUBLISH
X-ORIGINAL-URL:https://highergravitycrafthaus.com
X-WR-CALDESC:Events for Higher Gravity
REFRESH-INTERVAL;VALUE=DURATION:PT1H
X-Robots-Tag:noindex
X-PUBLISHED-TTL:PT1H
BEGIN:VTIMEZONE
TZID:America/New_York
BEGIN:DAYLIGHT
TZOFFSETFROM:-0500
TZOFFSETTO:-0400
TZNAME:EDT
DTSTART:20220313T070000
END:DAYLIGHT
BEGIN:STANDARD
TZOFFSETFROM:-0400
TZOFFSETTO:-0500
TZNAME:EST
DTSTART:20221106T060000
END:STANDARD
BEGIN:DAYLIGHT
TZOFFSETFROM:-0500
TZOFFSETTO:-0400
TZNAME:EDT
DTSTART:20230312T070000
END:DAYLIGHT
BEGIN:STANDARD
TZOFFSETFROM:-0400
TZOFFSETTO:-0500
TZNAME:EST
DTSTART:20231105T060000
END:STANDARD
BEGIN:DAYLIGHT
TZOFFSETFROM:-0500
TZOFFSETTO:-0400
TZNAME:EDT
DTSTART:20240310T070000
END:DAYLIGHT
BEGIN:STANDARD
TZOFFSETFROM:-0400
TZOFFSETTO:-0500
TZNAME:EST
DTSTART:20241103T060000
END:STANDARD
END:VTIMEZONE
BEGIN:VEVENT
DTSTART;TZID=America/New_York:20231001T130000
DTEND;TZID=America/New_York:20231001T160000
DTSTAMP:20260422T154521
CREATED:20230729T192208Z
LAST-MODIFIED:20230729T192208Z
UID:10003177-1696165200-1696176000@highergravitycrafthaus.com
SUMMARY:Bengals Watch Parties
DESCRIPTION:Hey Cincy! Join us in Summit Park this football season to cheer on the Bengals.\n\nOn Saturdays and Sundays from noon – close\, grab a bucket of High Noons for $25 or a Lo-G Pitcher for $15.\n***The same specials will apply during any weekday games.\n\nBring your crew and some takeout and kick it with us!
URL:https://highergravitycrafthaus.com/event/bengals-watch-parties/2023-10-01/
LOCATION:Summit Park\, 10241 Summit Park\, Cincinnati\, OH\, 45242\, United States
CATEGORIES:Sports Bar
END:VEVENT
BEGIN:VEVENT
DTSTART;TZID=America/New_York:20231008T160500
DTEND;TZID=America/New_York:20231008T190000
DTSTAMP:20260422T154521
CREATED:20230729T192208Z
LAST-MODIFIED:20230729T192208Z
UID:10003178-1696781100-1696791600@highergravitycrafthaus.com
SUMMARY:Bengals Watch Parties
DESCRIPTION:Hey Cincy! Join us in Summit Park this football season to cheer on the Bengals.\n\nOn Saturdays and Sundays from noon – close\, grab a bucket of High Noons for $25 or a Lo-G Pitcher for $15.\n***The same specials will apply during any weekday games.\n\nBring your crew and some takeout and kick it with us!
URL:https://highergravitycrafthaus.com/event/bengals-watch-parties/2023-10-08/
LOCATION:Summit Park\, 10241 Summit Park\, Cincinnati\, OH\, 45242\, United States
CATEGORIES:Sports Bar
END:VEVENT
BEGIN:VEVENT
DTSTART;TZID=America/New_York:20231013T200000
DTEND;TZID=America/New_York:20231013T235900
DTSTAMP:20260422T154521
CREATED:20230824T190217Z
LAST-MODIFIED:20230824T190217Z
UID:10003454-1697227200-1697241540@highergravitycrafthaus.com
SUMMARY:Spooky Summit Cinema: Hocus Pocus
DESCRIPTION:Come out for Summit Cinema October 13th and be sure to locate our beer booth in the park for some DORA drinks! \n“Experience the ultimate Halloween-themed evening at Spooky Summit Cinema sponsored by Toyota on Friday\, October 13. Indulge in the fan-favorite Halloween flick\, Hocus Pocus. Savor a creatively crafted DORA beverage from Higher Gravity\, and relish in sinister concessions from Nanny Belle’s. This hauntingly delightful night promises fun\, laughter\, and an unforgettable experience under the moonlit sky.”
URL:https://highergravitycrafthaus.com/event/spooky-summit-cinema-hocus-pocus/
LOCATION:Summit Park\, 10241 Summit Park\, Cincinnati\, OH\, 45242\, United States
CATEGORIES:Summit Park Events
ATTACH;FMTTYPE=image/jpeg:https://highergravitycrafthaus.com/wp-content/uploads/2023/08/366360776_786368856822309_6981502279739242569_n.jpg
END:VEVENT
BEGIN:VEVENT
DTSTART;TZID=America/New_York:20231015T130000
DTEND;TZID=America/New_York:20231015T160000
DTSTAMP:20260422T154521
CREATED:20230729T192208Z
LAST-MODIFIED:20230729T192208Z
UID:10003179-1697374800-1697385600@highergravitycrafthaus.com
SUMMARY:Bengals Watch Parties
DESCRIPTION:Hey Cincy! Join us in Summit Park this football season to cheer on the Bengals.\n\nOn Saturdays and Sundays from noon – close\, grab a bucket of High Noons for $25 or a Lo-G Pitcher for $15.\n***The same specials will apply during any weekday games.\n\nBring your crew and some takeout and kick it with us!
URL:https://highergravitycrafthaus.com/event/bengals-watch-parties/2023-10-15/
LOCATION:Summit Park\, 10241 Summit Park\, Cincinnati\, OH\, 45242\, United States
CATEGORIES:Sports Bar
END:VEVENT
BEGIN:VEVENT
DTSTART;TZID=America/New_York:20231029T162500
DTEND;TZID=America/New_York:20231029T200000
DTSTAMP:20260422T154521
CREATED:20230729T192208Z
LAST-MODIFIED:20230729T192208Z
UID:10003180-1698596700-1698609600@highergravitycrafthaus.com
SUMMARY:Bengals Watch Parties
DESCRIPTION:Hey Cincy! Join us in Summit Park this football season to cheer on the Bengals.\n\nOn Saturdays and Sundays from noon – close\, grab a bucket of High Noons for $25 or a Lo-G Pitcher for $15.\n***The same specials will apply during any weekday games.\n\nBring your crew and some takeout and kick it with us!
URL:https://highergravitycrafthaus.com/event/bengals-watch-parties/2023-10-29/
LOCATION:Summit Park\, 10241 Summit Park\, Cincinnati\, OH\, 45242\, United States
CATEGORIES:Sports Bar
END:VEVENT
END:VCALENDAR