BEGIN:VCALENDAR
VERSION:2.0
PRODID:-//Higher Gravity - ECPv6.15.20//NONSGML v1.0//EN
CALSCALE:GREGORIAN
METHOD:PUBLISH
X-ORIGINAL-URL:https://highergravitycrafthaus.com
X-WR-CALDESC:Events for Higher Gravity
REFRESH-INTERVAL;VALUE=DURATION:PT1H
X-Robots-Tag:noindex
X-PUBLISHED-TTL:PT1H
BEGIN:VTIMEZONE
TZID:America/New_York
BEGIN:DAYLIGHT
TZOFFSETFROM:-0500
TZOFFSETTO:-0400
TZNAME:EDT
DTSTART:20220313T070000
END:DAYLIGHT
BEGIN:STANDARD
TZOFFSETFROM:-0400
TZOFFSETTO:-0500
TZNAME:EST
DTSTART:20221106T060000
END:STANDARD
BEGIN:DAYLIGHT
TZOFFSETFROM:-0500
TZOFFSETTO:-0400
TZNAME:EDT
DTSTART:20230312T070000
END:DAYLIGHT
BEGIN:STANDARD
TZOFFSETFROM:-0400
TZOFFSETTO:-0500
TZNAME:EST
DTSTART:20231105T060000
END:STANDARD
BEGIN:DAYLIGHT
TZOFFSETFROM:-0500
TZOFFSETTO:-0400
TZNAME:EDT
DTSTART:20240310T070000
END:DAYLIGHT
BEGIN:STANDARD
TZOFFSETFROM:-0400
TZOFFSETTO:-0500
TZNAME:EST
DTSTART:20241103T060000
END:STANDARD
END:VTIMEZONE
BEGIN:VEVENT
DTSTART;TZID=America/New_York:20230910T130000
DTEND;TZID=America/New_York:20230910T160000
DTSTAMP:20260422T171818
CREATED:20230729T192208Z
LAST-MODIFIED:20230729T192208Z
UID:10003174-1694350800-1694361600@highergravitycrafthaus.com
SUMMARY:Bengals Watch Parties
DESCRIPTION:Hey Cincy! Join us in Summit Park this football season to cheer on the Bengals.\n\nOn Saturdays and Sundays from noon – close\, grab a bucket of High Noons for $25 or a Lo-G Pitcher for $15.\n***The same specials will apply during any weekday games.\n\nBring your crew and some takeout and kick it with us!
URL:https://highergravitycrafthaus.com/event/bengals-watch-parties/2023-09-10/
LOCATION:Summit Park\, 10241 Summit Park\, Cincinnati\, OH\, 45242\, United States
CATEGORIES:Sports Bar
END:VEVENT
BEGIN:VEVENT
DTSTART;TZID=America/New_York:20230917T130000
DTEND;TZID=America/New_York:20230917T160000
DTSTAMP:20260422T171818
CREATED:20230729T192208Z
LAST-MODIFIED:20230729T192208Z
UID:10003175-1694955600-1694966400@highergravitycrafthaus.com
SUMMARY:Bengals Watch Parties
DESCRIPTION:Hey Cincy! Join us in Summit Park this football season to cheer on the Bengals.\n\nOn Saturdays and Sundays from noon – close\, grab a bucket of High Noons for $25 or a Lo-G Pitcher for $15.\n***The same specials will apply during any weekday games.\n\nBring your crew and some takeout and kick it with us!
URL:https://highergravitycrafthaus.com/event/bengals-watch-parties/2023-09-17/
LOCATION:Summit Park\, 10241 Summit Park\, Cincinnati\, OH\, 45242\, United States
CATEGORIES:Sports Bar
END:VEVENT
BEGIN:VEVENT
DTSTART;VALUE=DATE:20230923
DTEND;VALUE=DATE:20230924
DTSTAMP:20260422T171818
CREATED:20230824T184047Z
LAST-MODIFIED:20230824T184047Z
UID:10003453-1695427200-1695513599@highergravitycrafthaus.com
SUMMARY:Paws in the Park Benefiting UPF
DESCRIPTION:The city of Blue Ash is hosting a unique dog-focused event in Summit Park. \nFurry friends can participate in lure chasing\, Frisbee demos\, agility courses and a costume parade while humans can shop an array of independent vendors selling both pet-related and non-pet-related goods\, fill up at our food truck station and more! \nFor more information\, visit: www.unitedpetfund.org/paws-in-the-park
URL:https://highergravitycrafthaus.com/event/paws-in-the-park-benefiting-upf/
LOCATION:Summit Park\, 10241 Summit Park\, Cincinnati\, OH\, 45242\, United States
CATEGORIES:Summit Park Events
ATTACH;FMTTYPE=image/jpeg:https://highergravitycrafthaus.com/wp-content/uploads/2023/08/352995847_636912375145582_1945584768340736023_n.jpg
END:VEVENT
BEGIN:VEVENT
DTSTART;TZID=America/New_York:20230925T201500
DTEND;TZID=America/New_York:20230925T230000
DTSTAMP:20260422T171818
CREATED:20230729T192208Z
LAST-MODIFIED:20230729T192208Z
UID:10003176-1695672900-1695682800@highergravitycrafthaus.com
SUMMARY:Bengals Watch Parties
DESCRIPTION:Hey Cincy! Join us in Summit Park this football season to cheer on the Bengals.\n\nOn Saturdays and Sundays from noon – close\, grab a bucket of High Noons for $25 or a Lo-G Pitcher for $15.\n***The same specials will apply during any weekday games.\n\nBring your crew and some takeout and kick it with us!
URL:https://highergravitycrafthaus.com/event/bengals-watch-parties/2023-09-25/
LOCATION:Summit Park\, 10241 Summit Park\, Cincinnati\, OH\, 45242\, United States
CATEGORIES:Sports Bar
END:VEVENT
END:VCALENDAR