BEGIN:VCALENDAR
VERSION:2.0
PRODID:-//Higher Gravity - ECPv6.15.20//NONSGML v1.0//EN
CALSCALE:GREGORIAN
METHOD:PUBLISH
X-WR-CALNAME:Higher Gravity
X-ORIGINAL-URL:https://highergravitycrafthaus.com
X-WR-CALDESC:Events for Higher Gravity
REFRESH-INTERVAL;VALUE=DURATION:PT1H
X-Robots-Tag:noindex
X-PUBLISHED-TTL:PT1H
BEGIN:VTIMEZONE
TZID:America/New_York
BEGIN:DAYLIGHT
TZOFFSETFROM:-0500
TZOFFSETTO:-0400
TZNAME:EDT
DTSTART:20260308T070000
END:DAYLIGHT
BEGIN:STANDARD
TZOFFSETFROM:-0400
TZOFFSETTO:-0500
TZNAME:EST
DTSTART:20261101T060000
END:STANDARD
BEGIN:DAYLIGHT
TZOFFSETFROM:-0500
TZOFFSETTO:-0400
TZNAME:EDT
DTSTART:20270314T070000
END:DAYLIGHT
BEGIN:STANDARD
TZOFFSETFROM:-0400
TZOFFSETTO:-0500
TZNAME:EST
DTSTART:20271107T060000
END:STANDARD
BEGIN:DAYLIGHT
TZOFFSETFROM:-0500
TZOFFSETTO:-0400
TZNAME:EDT
DTSTART:20280312T070000
END:DAYLIGHT
BEGIN:STANDARD
TZOFFSETFROM:-0400
TZOFFSETTO:-0500
TZNAME:EST
DTSTART:20281105T060000
END:STANDARD
END:VTIMEZONE
BEGIN:VEVENT
DTSTART;TZID=America/New_York:20270201T160000
DTEND;TZID=America/New_York:20270201T220000
DTSTAMP:20260421T181617
CREATED:20230815T194357Z
LAST-MODIFIED:20230815T194358Z
UID:10003372-1801497600-1801519200@highergravitycrafthaus.com
SUMMARY:Vinyl Nights at Higher Gravity Northside
DESCRIPTION:Join us every Monday for Vinyl Nights at Higher Gravity Northside.  We will be open from 4:00 – 10:00 PM with some great drink specials and Adam will be here with a record player to play all your favorite records. \nDrink specials include: \n\n$2 off all craft beer cans / bottles\n$1 off all domestic beer cans\n\nHow will Vinyl night work? \n\nJust bring in your favorite record\, or a new record (our friends at Shake it Records would love it if you grabbed some new Vinyl on your way down) and Adam will play it\nRecords will be player first-come\, first served\nDepending on the number of records brought in\, Adam will play a few songs from each\, or he may play a whole album.  This will just depend on the crowd and the vibe everyone is feeling.\n\nSubscribe to our Facebook event page for more info.
URL:https://highergravitycrafthaus.com/event/vinyl-nights-at-higher-gravity-northside/2027-02-01/
LOCATION:Northside\, 4106 Hamilton Ave\, Cincinnati\, OH\, 45223\, United States
ATTACH;FMTTYPE=image/png:https://highergravitycrafthaus.com/wp-content/uploads/2023/08/Mondays-are-for-record-beer.png
END:VEVENT
BEGIN:VEVENT
DTSTART;TZID=America/New_York:20270208T160000
DTEND;TZID=America/New_York:20270208T220000
DTSTAMP:20260421T181617
CREATED:20230815T194357Z
LAST-MODIFIED:20230815T194358Z
UID:10003373-1802102400-1802124000@highergravitycrafthaus.com
SUMMARY:Vinyl Nights at Higher Gravity Northside
DESCRIPTION:Join us every Monday for Vinyl Nights at Higher Gravity Northside.  We will be open from 4:00 – 10:00 PM with some great drink specials and Adam will be here with a record player to play all your favorite records. \nDrink specials include: \n\n$2 off all craft beer cans / bottles\n$1 off all domestic beer cans\n\nHow will Vinyl night work? \n\nJust bring in your favorite record\, or a new record (our friends at Shake it Records would love it if you grabbed some new Vinyl on your way down) and Adam will play it\nRecords will be player first-come\, first served\nDepending on the number of records brought in\, Adam will play a few songs from each\, or he may play a whole album.  This will just depend on the crowd and the vibe everyone is feeling.\n\nSubscribe to our Facebook event page for more info.
URL:https://highergravitycrafthaus.com/event/vinyl-nights-at-higher-gravity-northside/2027-02-08/
LOCATION:Northside\, 4106 Hamilton Ave\, Cincinnati\, OH\, 45223\, United States
ATTACH;FMTTYPE=image/png:https://highergravitycrafthaus.com/wp-content/uploads/2023/08/Mondays-are-for-record-beer.png
END:VEVENT
BEGIN:VEVENT
DTSTART;TZID=America/New_York:20270215T160000
DTEND;TZID=America/New_York:20270215T220000
DTSTAMP:20260421T181617
CREATED:20230815T194357Z
LAST-MODIFIED:20230815T194358Z
UID:10003374-1802707200-1802728800@highergravitycrafthaus.com
SUMMARY:Vinyl Nights at Higher Gravity Northside
DESCRIPTION:Join us every Monday for Vinyl Nights at Higher Gravity Northside.  We will be open from 4:00 – 10:00 PM with some great drink specials and Adam will be here with a record player to play all your favorite records. \nDrink specials include: \n\n$2 off all craft beer cans / bottles\n$1 off all domestic beer cans\n\nHow will Vinyl night work? \n\nJust bring in your favorite record\, or a new record (our friends at Shake it Records would love it if you grabbed some new Vinyl on your way down) and Adam will play it\nRecords will be player first-come\, first served\nDepending on the number of records brought in\, Adam will play a few songs from each\, or he may play a whole album.  This will just depend on the crowd and the vibe everyone is feeling.\n\nSubscribe to our Facebook event page for more info.
URL:https://highergravitycrafthaus.com/event/vinyl-nights-at-higher-gravity-northside/2027-02-15/
LOCATION:Northside\, 4106 Hamilton Ave\, Cincinnati\, OH\, 45223\, United States
ATTACH;FMTTYPE=image/png:https://highergravitycrafthaus.com/wp-content/uploads/2023/08/Mondays-are-for-record-beer.png
END:VEVENT
BEGIN:VEVENT
DTSTART;TZID=America/New_York:20270222T160000
DTEND;TZID=America/New_York:20270222T220000
DTSTAMP:20260421T181617
CREATED:20230815T194357Z
LAST-MODIFIED:20230815T194358Z
UID:10003375-1803312000-1803333600@highergravitycrafthaus.com
SUMMARY:Vinyl Nights at Higher Gravity Northside
DESCRIPTION:Join us every Monday for Vinyl Nights at Higher Gravity Northside.  We will be open from 4:00 – 10:00 PM with some great drink specials and Adam will be here with a record player to play all your favorite records. \nDrink specials include: \n\n$2 off all craft beer cans / bottles\n$1 off all domestic beer cans\n\nHow will Vinyl night work? \n\nJust bring in your favorite record\, or a new record (our friends at Shake it Records would love it if you grabbed some new Vinyl on your way down) and Adam will play it\nRecords will be player first-come\, first served\nDepending on the number of records brought in\, Adam will play a few songs from each\, or he may play a whole album.  This will just depend on the crowd and the vibe everyone is feeling.\n\nSubscribe to our Facebook event page for more info.
URL:https://highergravitycrafthaus.com/event/vinyl-nights-at-higher-gravity-northside/2027-02-22/
LOCATION:Northside\, 4106 Hamilton Ave\, Cincinnati\, OH\, 45223\, United States
ATTACH;FMTTYPE=image/png:https://highergravitycrafthaus.com/wp-content/uploads/2023/08/Mondays-are-for-record-beer.png
END:VEVENT
END:VCALENDAR