BEGIN:VCALENDAR
VERSION:2.0
PRODID:-//Higher Gravity - ECPv6.15.20//NONSGML v1.0//EN
CALSCALE:GREGORIAN
METHOD:PUBLISH
X-ORIGINAL-URL:https://highergravitycrafthaus.com
X-WR-CALDESC:Events for Higher Gravity
REFRESH-INTERVAL;VALUE=DURATION:PT1H
X-Robots-Tag:noindex
X-PUBLISHED-TTL:PT1H
BEGIN:VTIMEZONE
TZID:America/New_York
BEGIN:DAYLIGHT
TZOFFSETFROM:-0500
TZOFFSETTO:-0400
TZNAME:EDT
DTSTART:20240310T070000
END:DAYLIGHT
BEGIN:STANDARD
TZOFFSETFROM:-0400
TZOFFSETTO:-0500
TZNAME:EST
DTSTART:20241103T060000
END:STANDARD
BEGIN:DAYLIGHT
TZOFFSETFROM:-0500
TZOFFSETTO:-0400
TZNAME:EDT
DTSTART:20250309T070000
END:DAYLIGHT
BEGIN:STANDARD
TZOFFSETFROM:-0400
TZOFFSETTO:-0500
TZNAME:EST
DTSTART:20251102T060000
END:STANDARD
BEGIN:DAYLIGHT
TZOFFSETFROM:-0500
TZOFFSETTO:-0400
TZNAME:EDT
DTSTART:20260308T070000
END:DAYLIGHT
BEGIN:STANDARD
TZOFFSETFROM:-0400
TZOFFSETTO:-0500
TZNAME:EST
DTSTART:20261101T060000
END:STANDARD
END:VTIMEZONE
BEGIN:VEVENT
DTSTART;TZID=America/New_York:20250106T160000
DTEND;TZID=America/New_York:20250106T220000
DTSTAMP:20260423T222520
CREATED:20230815T194357Z
LAST-MODIFIED:20230815T194358Z
UID:10003264-1736179200-1736200800@highergravitycrafthaus.com
SUMMARY:Vinyl Nights at Higher Gravity Northside
DESCRIPTION:Join us every Monday for Vinyl Nights at Higher Gravity Northside.  We will be open from 4:00 – 10:00 PM with some great drink specials and Adam will be here with a record player to play all your favorite records. \nDrink specials include: \n\n$2 off all craft beer cans / bottles\n$1 off all domestic beer cans\n\nHow will Vinyl night work? \n\nJust bring in your favorite record\, or a new record (our friends at Shake it Records would love it if you grabbed some new Vinyl on your way down) and Adam will play it\nRecords will be player first-come\, first served\nDepending on the number of records brought in\, Adam will play a few songs from each\, or he may play a whole album.  This will just depend on the crowd and the vibe everyone is feeling.\n\nSubscribe to our Facebook event page for more info.
URL:https://highergravitycrafthaus.com/event/vinyl-nights-at-higher-gravity-northside/2025-01-06/
LOCATION:Northside\, 4106 Hamilton Ave\, Cincinnati\, OH\, 45223\, United States
ATTACH;FMTTYPE=image/png:https://highergravitycrafthaus.com/wp-content/uploads/2023/08/Mondays-are-for-record-beer.png
END:VEVENT
BEGIN:VEVENT
DTSTART;TZID=America/New_York:20250113T160000
DTEND;TZID=America/New_York:20250113T220000
DTSTAMP:20260423T222520
CREATED:20230815T194357Z
LAST-MODIFIED:20230815T194358Z
UID:10003265-1736784000-1736805600@highergravitycrafthaus.com
SUMMARY:Vinyl Nights at Higher Gravity Northside
DESCRIPTION:Join us every Monday for Vinyl Nights at Higher Gravity Northside.  We will be open from 4:00 – 10:00 PM with some great drink specials and Adam will be here with a record player to play all your favorite records. \nDrink specials include: \n\n$2 off all craft beer cans / bottles\n$1 off all domestic beer cans\n\nHow will Vinyl night work? \n\nJust bring in your favorite record\, or a new record (our friends at Shake it Records would love it if you grabbed some new Vinyl on your way down) and Adam will play it\nRecords will be player first-come\, first served\nDepending on the number of records brought in\, Adam will play a few songs from each\, or he may play a whole album.  This will just depend on the crowd and the vibe everyone is feeling.\n\nSubscribe to our Facebook event page for more info.
URL:https://highergravitycrafthaus.com/event/vinyl-nights-at-higher-gravity-northside/2025-01-13/
LOCATION:Northside\, 4106 Hamilton Ave\, Cincinnati\, OH\, 45223\, United States
ATTACH;FMTTYPE=image/png:https://highergravitycrafthaus.com/wp-content/uploads/2023/08/Mondays-are-for-record-beer.png
END:VEVENT
BEGIN:VEVENT
DTSTART;TZID=America/New_York:20250120T160000
DTEND;TZID=America/New_York:20250120T220000
DTSTAMP:20260423T222520
CREATED:20230815T194357Z
LAST-MODIFIED:20230815T194358Z
UID:10003266-1737388800-1737410400@highergravitycrafthaus.com
SUMMARY:Vinyl Nights at Higher Gravity Northside
DESCRIPTION:Join us every Monday for Vinyl Nights at Higher Gravity Northside.  We will be open from 4:00 – 10:00 PM with some great drink specials and Adam will be here with a record player to play all your favorite records. \nDrink specials include: \n\n$2 off all craft beer cans / bottles\n$1 off all domestic beer cans\n\nHow will Vinyl night work? \n\nJust bring in your favorite record\, or a new record (our friends at Shake it Records would love it if you grabbed some new Vinyl on your way down) and Adam will play it\nRecords will be player first-come\, first served\nDepending on the number of records brought in\, Adam will play a few songs from each\, or he may play a whole album.  This will just depend on the crowd and the vibe everyone is feeling.\n\nSubscribe to our Facebook event page for more info.
URL:https://highergravitycrafthaus.com/event/vinyl-nights-at-higher-gravity-northside/2025-01-20/
LOCATION:Northside\, 4106 Hamilton Ave\, Cincinnati\, OH\, 45223\, United States
ATTACH;FMTTYPE=image/png:https://highergravitycrafthaus.com/wp-content/uploads/2023/08/Mondays-are-for-record-beer.png
END:VEVENT
BEGIN:VEVENT
DTSTART;TZID=America/New_York:20250127T160000
DTEND;TZID=America/New_York:20250127T220000
DTSTAMP:20260423T222520
CREATED:20230815T194357Z
LAST-MODIFIED:20230815T194358Z
UID:10003267-1737993600-1738015200@highergravitycrafthaus.com
SUMMARY:Vinyl Nights at Higher Gravity Northside
DESCRIPTION:Join us every Monday for Vinyl Nights at Higher Gravity Northside.  We will be open from 4:00 – 10:00 PM with some great drink specials and Adam will be here with a record player to play all your favorite records. \nDrink specials include: \n\n$2 off all craft beer cans / bottles\n$1 off all domestic beer cans\n\nHow will Vinyl night work? \n\nJust bring in your favorite record\, or a new record (our friends at Shake it Records would love it if you grabbed some new Vinyl on your way down) and Adam will play it\nRecords will be player first-come\, first served\nDepending on the number of records brought in\, Adam will play a few songs from each\, or he may play a whole album.  This will just depend on the crowd and the vibe everyone is feeling.\n\nSubscribe to our Facebook event page for more info.
URL:https://highergravitycrafthaus.com/event/vinyl-nights-at-higher-gravity-northside/2025-01-27/
LOCATION:Northside\, 4106 Hamilton Ave\, Cincinnati\, OH\, 45223\, United States
ATTACH;FMTTYPE=image/png:https://highergravitycrafthaus.com/wp-content/uploads/2023/08/Mondays-are-for-record-beer.png
END:VEVENT
END:VCALENDAR