BEGIN:VCALENDAR
VERSION:2.0
PRODID:-//Higher Gravity - ECPv6.15.20//NONSGML v1.0//EN
CALSCALE:GREGORIAN
METHOD:PUBLISH
X-WR-CALNAME:Higher Gravity
X-ORIGINAL-URL:https://highergravitycrafthaus.com
X-WR-CALDESC:Events for Higher Gravity
REFRESH-INTERVAL;VALUE=DURATION:PT1H
X-Robots-Tag:noindex
X-PUBLISHED-TTL:PT1H
BEGIN:VTIMEZONE
TZID:America/New_York
BEGIN:DAYLIGHT
TZOFFSETFROM:-0500
TZOFFSETTO:-0400
TZNAME:EDT
DTSTART:20220313T070000
END:DAYLIGHT
BEGIN:STANDARD
TZOFFSETFROM:-0400
TZOFFSETTO:-0500
TZNAME:EST
DTSTART:20221106T060000
END:STANDARD
BEGIN:DAYLIGHT
TZOFFSETFROM:-0500
TZOFFSETTO:-0400
TZNAME:EDT
DTSTART:20230312T070000
END:DAYLIGHT
BEGIN:STANDARD
TZOFFSETFROM:-0400
TZOFFSETTO:-0500
TZNAME:EST
DTSTART:20231105T060000
END:STANDARD
BEGIN:DAYLIGHT
TZOFFSETFROM:-0500
TZOFFSETTO:-0400
TZNAME:EDT
DTSTART:20240310T070000
END:DAYLIGHT
BEGIN:STANDARD
TZOFFSETFROM:-0400
TZOFFSETTO:-0500
TZNAME:EST
DTSTART:20241103T060000
END:STANDARD
END:VTIMEZONE
BEGIN:VEVENT
DTSTART;TZID=America/New_York:20230721T210000
DTEND;TZID=America/New_York:20230721T230000
DTSTAMP:20260421T181705
CREATED:20230626T171243Z
LAST-MODIFIED:20230626T171243Z
UID:10003169-1689973200-1689980400@highergravitycrafthaus.com
SUMMARY:2023 FIFA Women's World Cup
DESCRIPTION:Join us 7/21 (Friday) and 7/26 (Wednesday) to watch the USA Women’s team embark on the road to the World Cup. \nBoth games start at 9pm and will be accompanied by sound and good beer.
URL:https://highergravitycrafthaus.com/event/2023-fifa-womens-world-cup/2023-07-21/
LOCATION:Summit Park\, 10241 Summit Park\, Cincinnati\, OH\, 45242\, United States
ATTACH;FMTTYPE=image/jpeg:https://highergravitycrafthaus.com/wp-content/uploads/2023/06/1160608491.jpg.0.jpg
END:VEVENT
BEGIN:VEVENT
DTSTART;TZID=America/New_York:20230726T210000
DTEND;TZID=America/New_York:20230726T230000
DTSTAMP:20260421T181705
CREATED:20230626T171243Z
LAST-MODIFIED:20230626T171243Z
UID:10003170-1690405200-1690412400@highergravitycrafthaus.com
SUMMARY:2023 FIFA Women's World Cup
DESCRIPTION:Join us 7/21 (Friday) and 7/26 (Wednesday) to watch the USA Women’s team embark on the road to the World Cup. \nBoth games start at 9pm and will be accompanied by sound and good beer.
URL:https://highergravitycrafthaus.com/event/2023-fifa-womens-world-cup/2023-07-26/
LOCATION:Summit Park\, 10241 Summit Park\, Cincinnati\, OH\, 45242\, United States
ATTACH;FMTTYPE=image/jpeg:https://highergravitycrafthaus.com/wp-content/uploads/2023/06/1160608491.jpg.0.jpg
END:VEVENT
END:VCALENDAR