BEGIN:VCALENDAR
VERSION:2.0
PRODID:-//Higher Gravity - ECPv6.15.20//NONSGML v1.0//EN
CALSCALE:GREGORIAN
METHOD:PUBLISH
X-ORIGINAL-URL:https://highergravitycrafthaus.com
X-WR-CALDESC:Events for Higher Gravity
REFRESH-INTERVAL;VALUE=DURATION:PT1H
X-Robots-Tag:noindex
X-PUBLISHED-TTL:PT1H
BEGIN:VTIMEZONE
TZID:America/New_York
BEGIN:DAYLIGHT
TZOFFSETFROM:-0500
TZOFFSETTO:-0400
TZNAME:EDT
DTSTART:20220313T070000
END:DAYLIGHT
BEGIN:STANDARD
TZOFFSETFROM:-0400
TZOFFSETTO:-0500
TZNAME:EST
DTSTART:20221106T060000
END:STANDARD
BEGIN:DAYLIGHT
TZOFFSETFROM:-0500
TZOFFSETTO:-0400
TZNAME:EDT
DTSTART:20230312T070000
END:DAYLIGHT
BEGIN:STANDARD
TZOFFSETFROM:-0400
TZOFFSETTO:-0500
TZNAME:EST
DTSTART:20231105T060000
END:STANDARD
BEGIN:DAYLIGHT
TZOFFSETFROM:-0500
TZOFFSETTO:-0400
TZNAME:EDT
DTSTART:20240310T070000
END:DAYLIGHT
BEGIN:STANDARD
TZOFFSETFROM:-0400
TZOFFSETTO:-0500
TZNAME:EST
DTSTART:20241103T060000
END:STANDARD
END:VTIMEZONE
BEGIN:VEVENT
DTSTART;TZID=America/New_York:20230407T100000
DTEND;TZID=America/New_York:20230408T235900
DTSTAMP:20260421T210903
CREATED:20230313T191233Z
LAST-MODIFIED:20230313T191234Z
UID:10000528-1680861600-1680998340@highergravitycrafthaus.com
SUMMARY:Summit Park Location 1 Year Anniversary
DESCRIPTION:Where did the time go? Higher Gravity is quickly approaching it’s 1 year anniversary for the Grand Opening of our Summit Park location.\n\nThis 2nd location was a long time coming but we did it and we’re thriving\, all thanks to you all. So\, we’re putting together a VERY special weekend not only to celebrate our 1 year anniversary\, but to say thanks for your support. We wouldn’t be “Living Higher” without it.\n\nSAVE THE DATE: Friday 4/7 & Saturday 4/8\n\nWe will be frequently updating this page as we secure event details. Just trust us\, you won’t wanna miss this weekend. Cheers!
URL:https://highergravitycrafthaus.com/event/summit-park-location-1-year-anniversary/
LOCATION:Summit Park\, 10241 Summit Park\, Cincinnati\, OH\, 45242\, United States
ATTACH;FMTTYPE=image/png:https://highergravitycrafthaus.com/wp-content/uploads/2023/03/Anniversary-weekend.png
END:VEVENT
END:VCALENDAR