BEGIN:VCALENDAR
VERSION:2.0
PRODID:-//Higher Gravity - ECPv6.15.20//NONSGML v1.0//EN
CALSCALE:GREGORIAN
METHOD:PUBLISH
X-ORIGINAL-URL:https://highergravitycrafthaus.com
X-WR-CALDESC:Events for Higher Gravity
REFRESH-INTERVAL;VALUE=DURATION:PT1H
X-Robots-Tag:noindex
X-PUBLISHED-TTL:PT1H
BEGIN:VTIMEZONE
TZID:America/New_York
BEGIN:DAYLIGHT
TZOFFSETFROM:-0500
TZOFFSETTO:-0400
TZNAME:EDT
DTSTART:20230312T070000
END:DAYLIGHT
BEGIN:STANDARD
TZOFFSETFROM:-0400
TZOFFSETTO:-0500
TZNAME:EST
DTSTART:20231105T060000
END:STANDARD
BEGIN:DAYLIGHT
TZOFFSETFROM:-0500
TZOFFSETTO:-0400
TZNAME:EDT
DTSTART:20240310T070000
END:DAYLIGHT
BEGIN:STANDARD
TZOFFSETFROM:-0400
TZOFFSETTO:-0500
TZNAME:EST
DTSTART:20241103T060000
END:STANDARD
BEGIN:DAYLIGHT
TZOFFSETFROM:-0500
TZOFFSETTO:-0400
TZNAME:EDT
DTSTART:20250309T070000
END:DAYLIGHT
BEGIN:STANDARD
TZOFFSETFROM:-0400
TZOFFSETTO:-0500
TZNAME:EST
DTSTART:20251102T060000
END:STANDARD
END:VTIMEZONE
BEGIN:VEVENT
DTSTART;TZID=America/New_York:20240104T150000
DTEND;TZID=America/New_York:20240104T230000
DTSTAMP:20260421T163955
CREATED:20231208T174341Z
LAST-MODIFIED:20231208T190700Z
UID:10003996-1704380400-1704409200@highergravitycrafthaus.com
SUMMARY:Bourbon Thursday's in Northside
DESCRIPTION:Join Higher Gravity every Thursday in December for Bourbon Thursday’s in Northside! \nEvery month\, we will select 3 different bourbons to have on special for Bourbon Thursday’s and also be serving up $7 Old Fashion Cocktails. \nThis month\, our featured bourbons are: \n\n$9 Woodford Reserve\n$7 Buffalo Trace\n$5 Bulleit Bourbon\n\nWant to know what other Bourbons we have in stock? Check out our Bourbon\, Scotch & Tequila page here.
URL:https://highergravitycrafthaus.com/event/bourbon-thursdays-in-northside/2024-01-04/
LOCATION:Northside\, 4106 Hamilton Ave\, Cincinnati\, OH\, 45223\, United States
ATTACH;FMTTYPE=image/png:https://highergravitycrafthaus.com/wp-content/uploads/2023/12/Northside-Bourbon-Thursdays.png
END:VEVENT
BEGIN:VEVENT
DTSTART;TZID=America/New_York:20240111T150000
DTEND;TZID=America/New_York:20240111T230000
DTSTAMP:20260421T163955
CREATED:20231208T174341Z
LAST-MODIFIED:20231208T190700Z
UID:10003997-1704985200-1705014000@highergravitycrafthaus.com
SUMMARY:Bourbon Thursday's in Northside
DESCRIPTION:Join Higher Gravity every Thursday in December for Bourbon Thursday’s in Northside! \nEvery month\, we will select 3 different bourbons to have on special for Bourbon Thursday’s and also be serving up $7 Old Fashion Cocktails. \nThis month\, our featured bourbons are: \n\n$9 Woodford Reserve\n$7 Buffalo Trace\n$5 Bulleit Bourbon\n\nWant to know what other Bourbons we have in stock? Check out our Bourbon\, Scotch & Tequila page here.
URL:https://highergravitycrafthaus.com/event/bourbon-thursdays-in-northside/2024-01-11/
LOCATION:Northside\, 4106 Hamilton Ave\, Cincinnati\, OH\, 45223\, United States
ATTACH;FMTTYPE=image/png:https://highergravitycrafthaus.com/wp-content/uploads/2023/12/Northside-Bourbon-Thursdays.png
END:VEVENT
BEGIN:VEVENT
DTSTART;TZID=America/New_York:20240118T150000
DTEND;TZID=America/New_York:20240118T230000
DTSTAMP:20260421T163955
CREATED:20231208T174341Z
LAST-MODIFIED:20231208T190700Z
UID:10003998-1705590000-1705618800@highergravitycrafthaus.com
SUMMARY:Bourbon Thursday's in Northside
DESCRIPTION:Join Higher Gravity every Thursday in December for Bourbon Thursday’s in Northside! \nEvery month\, we will select 3 different bourbons to have on special for Bourbon Thursday’s and also be serving up $7 Old Fashion Cocktails. \nThis month\, our featured bourbons are: \n\n$9 Woodford Reserve\n$7 Buffalo Trace\n$5 Bulleit Bourbon\n\nWant to know what other Bourbons we have in stock? Check out our Bourbon\, Scotch & Tequila page here.
URL:https://highergravitycrafthaus.com/event/bourbon-thursdays-in-northside/2024-01-18/
LOCATION:Northside\, 4106 Hamilton Ave\, Cincinnati\, OH\, 45223\, United States
ATTACH;FMTTYPE=image/png:https://highergravitycrafthaus.com/wp-content/uploads/2023/12/Northside-Bourbon-Thursdays.png
END:VEVENT
BEGIN:VEVENT
DTSTART;TZID=America/New_York:20240125T150000
DTEND;TZID=America/New_York:20240125T230000
DTSTAMP:20260421T163955
CREATED:20231208T174341Z
LAST-MODIFIED:20231208T190700Z
UID:10003999-1706194800-1706223600@highergravitycrafthaus.com
SUMMARY:Bourbon Thursday's in Northside
DESCRIPTION:Join Higher Gravity every Thursday in December for Bourbon Thursday’s in Northside! \nEvery month\, we will select 3 different bourbons to have on special for Bourbon Thursday’s and also be serving up $7 Old Fashion Cocktails. \nThis month\, our featured bourbons are: \n\n$9 Woodford Reserve\n$7 Buffalo Trace\n$5 Bulleit Bourbon\n\nWant to know what other Bourbons we have in stock? Check out our Bourbon\, Scotch & Tequila page here.
URL:https://highergravitycrafthaus.com/event/bourbon-thursdays-in-northside/2024-01-25/
LOCATION:Northside\, 4106 Hamilton Ave\, Cincinnati\, OH\, 45223\, United States
ATTACH;FMTTYPE=image/png:https://highergravitycrafthaus.com/wp-content/uploads/2023/12/Northside-Bourbon-Thursdays.png
END:VEVENT
END:VCALENDAR