BEGIN:VCALENDAR
VERSION:2.0
PRODID:-//Higher Gravity - ECPv6.15.20//NONSGML v1.0//EN
CALSCALE:GREGORIAN
METHOD:PUBLISH
X-WR-CALNAME:Higher Gravity
X-ORIGINAL-URL:https://highergravitycrafthaus.com
X-WR-CALDESC:Events for Higher Gravity
REFRESH-INTERVAL;VALUE=DURATION:PT1H
X-Robots-Tag:noindex
X-PUBLISHED-TTL:PT1H
BEGIN:VTIMEZONE
TZID:America/New_York
BEGIN:DAYLIGHT
TZOFFSETFROM:-0500
TZOFFSETTO:-0400
TZNAME:EDT
DTSTART:20220313T070000
END:DAYLIGHT
BEGIN:STANDARD
TZOFFSETFROM:-0400
TZOFFSETTO:-0500
TZNAME:EST
DTSTART:20221106T060000
END:STANDARD
BEGIN:DAYLIGHT
TZOFFSETFROM:-0500
TZOFFSETTO:-0400
TZNAME:EDT
DTSTART:20230312T070000
END:DAYLIGHT
BEGIN:STANDARD
TZOFFSETFROM:-0400
TZOFFSETTO:-0500
TZNAME:EST
DTSTART:20231105T060000
END:STANDARD
BEGIN:DAYLIGHT
TZOFFSETFROM:-0500
TZOFFSETTO:-0400
TZNAME:EDT
DTSTART:20240310T070000
END:DAYLIGHT
BEGIN:STANDARD
TZOFFSETFROM:-0400
TZOFFSETTO:-0500
TZNAME:EST
DTSTART:20241103T060000
END:STANDARD
END:VTIMEZONE
BEGIN:VEVENT
DTSTART;TZID=America/New_York:20231214T150000
DTEND;TZID=America/New_York:20231214T230000
DTSTAMP:20260421T181557
CREATED:20231208T174341Z
LAST-MODIFIED:20231208T190700Z
UID:10003993-1702566000-1702594800@highergravitycrafthaus.com
SUMMARY:Bourbon Thursday's in Northside
DESCRIPTION:Join Higher Gravity every Thursday in December for Bourbon Thursday’s in Northside! \nEvery month\, we will select 3 different bourbons to have on special for Bourbon Thursday’s and also be serving up $7 Old Fashion Cocktails. \nThis month\, our featured bourbons are: \n\n$9 Woodford Reserve\n$7 Buffalo Trace\n$5 Bulleit Bourbon\n\nWant to know what other Bourbons we have in stock? Check out our Bourbon\, Scotch & Tequila page here.
URL:https://highergravitycrafthaus.com/event/bourbon-thursdays-in-northside/2023-12-14/
LOCATION:Northside\, 4106 Hamilton Ave\, Cincinnati\, OH\, 45223\, United States
ATTACH;FMTTYPE=image/png:https://highergravitycrafthaus.com/wp-content/uploads/2023/12/Northside-Bourbon-Thursdays.png
END:VEVENT
BEGIN:VEVENT
DTSTART;TZID=America/New_York:20231221T150000
DTEND;TZID=America/New_York:20231221T230000
DTSTAMP:20260421T181557
CREATED:20231208T174341Z
LAST-MODIFIED:20231208T190700Z
UID:10003994-1703170800-1703199600@highergravitycrafthaus.com
SUMMARY:Bourbon Thursday's in Northside
DESCRIPTION:Join Higher Gravity every Thursday in December for Bourbon Thursday’s in Northside! \nEvery month\, we will select 3 different bourbons to have on special for Bourbon Thursday’s and also be serving up $7 Old Fashion Cocktails. \nThis month\, our featured bourbons are: \n\n$9 Woodford Reserve\n$7 Buffalo Trace\n$5 Bulleit Bourbon\n\nWant to know what other Bourbons we have in stock? Check out our Bourbon\, Scotch & Tequila page here.
URL:https://highergravitycrafthaus.com/event/bourbon-thursdays-in-northside/2023-12-21/
LOCATION:Northside\, 4106 Hamilton Ave\, Cincinnati\, OH\, 45223\, United States
ATTACH;FMTTYPE=image/png:https://highergravitycrafthaus.com/wp-content/uploads/2023/12/Northside-Bourbon-Thursdays.png
END:VEVENT
BEGIN:VEVENT
DTSTART;TZID=America/New_York:20231228T150000
DTEND;TZID=America/New_York:20231228T230000
DTSTAMP:20260421T181557
CREATED:20231208T174341Z
LAST-MODIFIED:20231208T190700Z
UID:10003995-1703775600-1703804400@highergravitycrafthaus.com
SUMMARY:Bourbon Thursday's in Northside
DESCRIPTION:Join Higher Gravity every Thursday in December for Bourbon Thursday’s in Northside! \nEvery month\, we will select 3 different bourbons to have on special for Bourbon Thursday’s and also be serving up $7 Old Fashion Cocktails. \nThis month\, our featured bourbons are: \n\n$9 Woodford Reserve\n$7 Buffalo Trace\n$5 Bulleit Bourbon\n\nWant to know what other Bourbons we have in stock? Check out our Bourbon\, Scotch & Tequila page here.
URL:https://highergravitycrafthaus.com/event/bourbon-thursdays-in-northside/2023-12-28/
LOCATION:Northside\, 4106 Hamilton Ave\, Cincinnati\, OH\, 45223\, United States
ATTACH;FMTTYPE=image/png:https://highergravitycrafthaus.com/wp-content/uploads/2023/12/Northside-Bourbon-Thursdays.png
END:VEVENT
END:VCALENDAR