BEGIN:VCALENDAR
VERSION:2.0
PRODID:-//Higher Gravity - ECPv6.15.20//NONSGML v1.0//EN
CALSCALE:GREGORIAN
METHOD:PUBLISH
X-WR-CALNAME:Higher Gravity
X-ORIGINAL-URL:https://highergravitycrafthaus.com
X-WR-CALDESC:Events for Higher Gravity
REFRESH-INTERVAL;VALUE=DURATION:PT1H
X-Robots-Tag:noindex
X-PUBLISHED-TTL:PT1H
BEGIN:VTIMEZONE
TZID:America/New_York
BEGIN:DAYLIGHT
TZOFFSETFROM:-0500
TZOFFSETTO:-0400
TZNAME:EDT
DTSTART:20230312T070000
END:DAYLIGHT
BEGIN:STANDARD
TZOFFSETFROM:-0400
TZOFFSETTO:-0500
TZNAME:EST
DTSTART:20231105T060000
END:STANDARD
BEGIN:DAYLIGHT
TZOFFSETFROM:-0500
TZOFFSETTO:-0400
TZNAME:EDT
DTSTART:20240310T070000
END:DAYLIGHT
BEGIN:STANDARD
TZOFFSETFROM:-0400
TZOFFSETTO:-0500
TZNAME:EST
DTSTART:20241103T060000
END:STANDARD
BEGIN:DAYLIGHT
TZOFFSETFROM:-0500
TZOFFSETTO:-0400
TZNAME:EDT
DTSTART:20250309T070000
END:DAYLIGHT
BEGIN:STANDARD
TZOFFSETFROM:-0400
TZOFFSETTO:-0500
TZNAME:EST
DTSTART:20251102T060000
END:STANDARD
END:VTIMEZONE
BEGIN:VEVENT
DTSTART;TZID=America/New_York:20240321T120000
DTEND;TZID=America/New_York:20240324T220000
DTSTAMP:20260421T090012
CREATED:20240319T191417Z
LAST-MODIFIED:20240319T191418Z
UID:10004049-1711022400-1711317600@highergravitycrafthaus.com
SUMMARY:March Madness
DESCRIPTION:It’s that time of the year! March Madness is officially here and we are stoked to host everyone for all of the college basketball games this year. \nWe will be opening both of our locations early for the tournament.  Be sure to check our hours below: \n\nNorthside Hours\nSummit Park Hours\n\nAs always\, come enjoy some great craft beer\, wine and cocktails while you watch each game. \nBe sure to let us know on our social media pages who you think will win this year!
URL:https://highergravitycrafthaus.com/event/march-madness/
LOCATION:Northside\, 4106 Hamilton Ave\, Cincinnati\, OH\, 45223\, United States
ATTACH;FMTTYPE=image/png:https://highergravitycrafthaus.com/wp-content/uploads/2024/03/ncaa.png
END:VEVENT
END:VCALENDAR