BEGIN:VCALENDAR
VERSION:2.0
PRODID:-//Higher Gravity - ECPv6.15.20//NONSGML v1.0//EN
CALSCALE:GREGORIAN
METHOD:PUBLISH
X-ORIGINAL-URL:https://highergravitycrafthaus.com
X-WR-CALDESC:Events for Higher Gravity
REFRESH-INTERVAL;VALUE=DURATION:PT1H
X-Robots-Tag:noindex
X-PUBLISHED-TTL:PT1H
BEGIN:VTIMEZONE
TZID:America/New_York
BEGIN:DAYLIGHT
TZOFFSETFROM:-0500
TZOFFSETTO:-0400
TZNAME:EDT
DTSTART:20220313T070000
END:DAYLIGHT
BEGIN:STANDARD
TZOFFSETFROM:-0400
TZOFFSETTO:-0500
TZNAME:EST
DTSTART:20221106T060000
END:STANDARD
BEGIN:DAYLIGHT
TZOFFSETFROM:-0500
TZOFFSETTO:-0400
TZNAME:EDT
DTSTART:20230312T070000
END:DAYLIGHT
BEGIN:STANDARD
TZOFFSETFROM:-0400
TZOFFSETTO:-0500
TZNAME:EST
DTSTART:20231105T060000
END:STANDARD
BEGIN:DAYLIGHT
TZOFFSETFROM:-0500
TZOFFSETTO:-0400
TZNAME:EDT
DTSTART:20240310T070000
END:DAYLIGHT
BEGIN:STANDARD
TZOFFSETFROM:-0400
TZOFFSETTO:-0500
TZNAME:EST
DTSTART:20241103T060000
END:STANDARD
END:VTIMEZONE
BEGIN:VEVENT
DTSTART;TZID=America/New_York:20230323T150000
DTEND;TZID=America/New_York:20230323T180000
DTSTAMP:20260424T120317
CREATED:20230314T120630Z
LAST-MODIFIED:20230314T120630Z
UID:10000543-1679583600-1679594400@highergravitycrafthaus.com
SUMMARY:Happy Hour
DESCRIPTION:Join Higher Gravity Summit Park every weekday from 3-6 for Happy Hour. \nHappy hour drink specials include the following: \n\n$1 off all drafts\, including craft beer\, root beer and cold brew coffee\n$2 off house wine pours\n$2 off house cocktails\n\nCheck out our draft list before you come so you can plan your drinks accordingly. \nYou can find our beer menus for both locations here.
URL:https://highergravitycrafthaus.com/event/happy-hour-higher-gravity/2023-03-23/
LOCATION:Summit Park\, 10241 Summit Park\, Cincinnati\, OH\, 45242\, United States
ATTACH;FMTTYPE=image/png:https://highergravitycrafthaus.com/wp-content/uploads/2023/03/Happy-Thanksgiving.png
END:VEVENT
BEGIN:VEVENT
DTSTART;TZID=America/New_York:20230322T150000
DTEND;TZID=America/New_York:20230322T180000
DTSTAMP:20260424T120317
CREATED:20230314T173010Z
LAST-MODIFIED:20230314T173248Z
UID:10001848-1679497200-1679508000@highergravitycrafthaus.com
SUMMARY:Happy Hour
DESCRIPTION:Join Higher Gravity in Northside every weekday from 3-6 for Happy Hour. \nHappy hour drink specials include the following: \n\n$1 off all drafts\, including craft beer\, root beer and cold brew coffee\n$2 off house wine pours\n$2 off house cocktails\n\nCheck out our draft list before you come so you can plan your drinks accordingly. \nYou can find our beer menus for both locations here.
URL:https://highergravitycrafthaus.com/event/happy-hour-higher-gravity-northside/2023-03-22/
LOCATION:Northside\, 4106 Hamilton Ave\, Cincinnati\, OH\, 45223\, United States
ATTACH;FMTTYPE=image/jpeg:https://highergravitycrafthaus.com/wp-content/uploads/2022/06/slide-ns_6.jpg
END:VEVENT
BEGIN:VEVENT
DTSTART;TZID=America/New_York:20230322T150000
DTEND;TZID=America/New_York:20230322T180000
DTSTAMP:20260424T120317
CREATED:20230314T120630Z
LAST-MODIFIED:20230314T120630Z
UID:10000542-1679497200-1679508000@highergravitycrafthaus.com
SUMMARY:Happy Hour
DESCRIPTION:Join Higher Gravity Summit Park every weekday from 3-6 for Happy Hour. \nHappy hour drink specials include the following: \n\n$1 off all drafts\, including craft beer\, root beer and cold brew coffee\n$2 off house wine pours\n$2 off house cocktails\n\nCheck out our draft list before you come so you can plan your drinks accordingly. \nYou can find our beer menus for both locations here.
URL:https://highergravitycrafthaus.com/event/happy-hour-higher-gravity/2023-03-22/
LOCATION:Summit Park\, 10241 Summit Park\, Cincinnati\, OH\, 45242\, United States
ATTACH;FMTTYPE=image/png:https://highergravitycrafthaus.com/wp-content/uploads/2023/03/Happy-Thanksgiving.png
END:VEVENT
BEGIN:VEVENT
DTSTART;TZID=America/New_York:20230321T150000
DTEND;TZID=America/New_York:20230321T180000
DTSTAMP:20260424T120317
CREATED:20230314T173010Z
LAST-MODIFIED:20230314T173248Z
UID:10001847-1679410800-1679421600@highergravitycrafthaus.com
SUMMARY:Happy Hour
DESCRIPTION:Join Higher Gravity in Northside every weekday from 3-6 for Happy Hour. \nHappy hour drink specials include the following: \n\n$1 off all drafts\, including craft beer\, root beer and cold brew coffee\n$2 off house wine pours\n$2 off house cocktails\n\nCheck out our draft list before you come so you can plan your drinks accordingly. \nYou can find our beer menus for both locations here.
URL:https://highergravitycrafthaus.com/event/happy-hour-higher-gravity-northside/2023-03-21/
LOCATION:Northside\, 4106 Hamilton Ave\, Cincinnati\, OH\, 45223\, United States
ATTACH;FMTTYPE=image/jpeg:https://highergravitycrafthaus.com/wp-content/uploads/2022/06/slide-ns_6.jpg
END:VEVENT
BEGIN:VEVENT
DTSTART;TZID=America/New_York:20230321T150000
DTEND;TZID=America/New_York:20230321T180000
DTSTAMP:20260424T120317
CREATED:20230314T120630Z
LAST-MODIFIED:20230314T120630Z
UID:10000541-1679410800-1679421600@highergravitycrafthaus.com
SUMMARY:Happy Hour
DESCRIPTION:Join Higher Gravity Summit Park every weekday from 3-6 for Happy Hour. \nHappy hour drink specials include the following: \n\n$1 off all drafts\, including craft beer\, root beer and cold brew coffee\n$2 off house wine pours\n$2 off house cocktails\n\nCheck out our draft list before you come so you can plan your drinks accordingly. \nYou can find our beer menus for both locations here.
URL:https://highergravitycrafthaus.com/event/happy-hour-higher-gravity/2023-03-21/
LOCATION:Summit Park\, 10241 Summit Park\, Cincinnati\, OH\, 45242\, United States
ATTACH;FMTTYPE=image/png:https://highergravitycrafthaus.com/wp-content/uploads/2023/03/Happy-Thanksgiving.png
END:VEVENT
BEGIN:VEVENT
DTSTART;TZID=America/New_York:20230320T150000
DTEND;TZID=America/New_York:20230320T180000
DTSTAMP:20260424T120317
CREATED:20230314T173010Z
LAST-MODIFIED:20230314T173248Z
UID:10001846-1679324400-1679335200@highergravitycrafthaus.com
SUMMARY:Happy Hour
DESCRIPTION:Join Higher Gravity in Northside every weekday from 3-6 for Happy Hour. \nHappy hour drink specials include the following: \n\n$1 off all drafts\, including craft beer\, root beer and cold brew coffee\n$2 off house wine pours\n$2 off house cocktails\n\nCheck out our draft list before you come so you can plan your drinks accordingly. \nYou can find our beer menus for both locations here.
URL:https://highergravitycrafthaus.com/event/happy-hour-higher-gravity-northside/2023-03-20/
LOCATION:Northside\, 4106 Hamilton Ave\, Cincinnati\, OH\, 45223\, United States
ATTACH;FMTTYPE=image/jpeg:https://highergravitycrafthaus.com/wp-content/uploads/2022/06/slide-ns_6.jpg
END:VEVENT
BEGIN:VEVENT
DTSTART;TZID=America/New_York:20230320T150000
DTEND;TZID=America/New_York:20230320T180000
DTSTAMP:20260424T120317
CREATED:20230314T120630Z
LAST-MODIFIED:20230314T120630Z
UID:10000540-1679324400-1679335200@highergravitycrafthaus.com
SUMMARY:Happy Hour
DESCRIPTION:Join Higher Gravity Summit Park every weekday from 3-6 for Happy Hour. \nHappy hour drink specials include the following: \n\n$1 off all drafts\, including craft beer\, root beer and cold brew coffee\n$2 off house wine pours\n$2 off house cocktails\n\nCheck out our draft list before you come so you can plan your drinks accordingly. \nYou can find our beer menus for both locations here.
URL:https://highergravitycrafthaus.com/event/happy-hour-higher-gravity/2023-03-20/
LOCATION:Summit Park\, 10241 Summit Park\, Cincinnati\, OH\, 45242\, United States
ATTACH;FMTTYPE=image/png:https://highergravitycrafthaus.com/wp-content/uploads/2023/03/Happy-Thanksgiving.png
END:VEVENT
BEGIN:VEVENT
DTSTART;TZID=America/New_York:20230318T203000
DTEND;TZID=America/New_York:20230318T223000
DTSTAMP:20260424T120317
CREATED:20230314T174049Z
LAST-MODIFIED:20230314T174050Z
UID:10003149-1679171400-1679178600@highergravitycrafthaus.com
SUMMARY:FCC Watch Party
DESCRIPTION:Higher Gravity in Northside is the best place to watch all the FC Cincinnati games this season! \nJoin us for every FCC game and enjoy $15 pitchers of our house Blonde Ale\, Lo-G.  Plus\, with over 400 rotating craft beers to choose from\, as well as coffee and other non-alcoholic beverages\, the entire family can enjoy every Cincinnati Soccer Match this year.
URL:https://highergravitycrafthaus.com/event/fcc-watch-party-soccer-3/
LOCATION:Northside\, 4106 Hamilton Ave\, Cincinnati\, OH\, 45223\, United States
CATEGORIES:FCC Viewing,Local Beer Bar
ATTACH;FMTTYPE=image/jpeg:https://highergravitycrafthaus.com/wp-content/uploads/2023/03/fcc-big.jpg
END:VEVENT
BEGIN:VEVENT
DTSTART;TZID=America/New_York:20230318T203000
DTEND;TZID=America/New_York:20230318T223000
DTSTAMP:20260424T120317
CREATED:20230314T112141Z
LAST-MODIFIED:20230314T112207Z
UID:10000527-1679171400-1679178600@highergravitycrafthaus.com
SUMMARY:FCC Watch Party
DESCRIPTION:Higher Gravity in Summit Park is the best place to watch all the FC Cincinnati games this season! \nJoin us for every FCC game and enjoy $15 pitchers of our house Blonde Ale\, Lo-G.  Plus\, with over 400 rotating craft beers to choose from\, as well as coffee and other non-alcoholic beverages\, the entire family can enjoy every Cincinnati Soccer Match this year.
URL:https://highergravitycrafthaus.com/event/fcc-viewing-at-higher-gravity-summit-park-2/
LOCATION:Summit Park\, 10241 Summit Park\, Cincinnati\, OH\, 45242\, United States
CATEGORIES:FCC Viewing,Local Beer Bar
ATTACH;FMTTYPE=image/jpeg:https://highergravitycrafthaus.com/wp-content/uploads/2023/03/fcc-big.jpg
END:VEVENT
BEGIN:VEVENT
DTSTART;TZID=America/New_York:20230318T093000
DTEND;TZID=America/New_York:20230318T140000
DTSTAMP:20260424T120317
CREATED:20230313T172829Z
LAST-MODIFIED:20230314T112254Z
UID:10000526-1679131800-1679148000@highergravitycrafthaus.com
SUMMARY:Exploring With Grace Annual 5k Race
DESCRIPTION:Sign up for the race: https://runsignup.com/Race/OH/BlueAsh/ExploringWithGrace5K \n7-8:30 AM: Race Day Packet Pick-Up\n8:30-9 AM: Welcome and Thank You\n9 AM: Race Start \nHG Doors will be open to runners at 9:30am
URL:https://highergravitycrafthaus.com/event/exploring-with-grace-annual-5k-race/
LOCATION:Summit Park\, 10241 Summit Park\, Cincinnati\, OH\, 45242\, United States
ATTACH;FMTTYPE=image/jpeg:https://highergravitycrafthaus.com/wp-content/uploads/2023/03/325196890_1401236520682367_1678266588232375445_n-1.jpg
END:VEVENT
BEGIN:VEVENT
DTSTART;TZID=America/New_York:20230317T150000
DTEND;TZID=America/New_York:20230317T180000
DTSTAMP:20260424T120317
CREATED:20230314T173010Z
LAST-MODIFIED:20230314T173248Z
UID:10001845-1679065200-1679076000@highergravitycrafthaus.com
SUMMARY:Happy Hour
DESCRIPTION:Join Higher Gravity in Northside every weekday from 3-6 for Happy Hour. \nHappy hour drink specials include the following: \n\n$1 off all drafts\, including craft beer\, root beer and cold brew coffee\n$2 off house wine pours\n$2 off house cocktails\n\nCheck out our draft list before you come so you can plan your drinks accordingly. \nYou can find our beer menus for both locations here.
URL:https://highergravitycrafthaus.com/event/happy-hour-higher-gravity-northside/2023-03-17/
LOCATION:Northside\, 4106 Hamilton Ave\, Cincinnati\, OH\, 45223\, United States
ATTACH;FMTTYPE=image/jpeg:https://highergravitycrafthaus.com/wp-content/uploads/2022/06/slide-ns_6.jpg
END:VEVENT
BEGIN:VEVENT
DTSTART;TZID=America/New_York:20230317T150000
DTEND;TZID=America/New_York:20230317T180000
DTSTAMP:20260424T120317
CREATED:20230314T120630Z
LAST-MODIFIED:20230314T120630Z
UID:10000539-1679065200-1679076000@highergravitycrafthaus.com
SUMMARY:Happy Hour
DESCRIPTION:Join Higher Gravity Summit Park every weekday from 3-6 for Happy Hour. \nHappy hour drink specials include the following: \n\n$1 off all drafts\, including craft beer\, root beer and cold brew coffee\n$2 off house wine pours\n$2 off house cocktails\n\nCheck out our draft list before you come so you can plan your drinks accordingly. \nYou can find our beer menus for both locations here.
URL:https://highergravitycrafthaus.com/event/happy-hour-higher-gravity/2023-03-17/
LOCATION:Summit Park\, 10241 Summit Park\, Cincinnati\, OH\, 45242\, United States
ATTACH;FMTTYPE=image/png:https://highergravitycrafthaus.com/wp-content/uploads/2023/03/Happy-Thanksgiving.png
END:VEVENT
BEGIN:VEVENT
DTSTART;TZID=America/New_York:20230317T100000
DTEND;TZID=America/New_York:20230318T000000
DTSTAMP:20260424T120317
CREATED:20230313T170943Z
LAST-MODIFIED:20230313T172910Z
UID:10000525-1679047200-1679097600@highergravitycrafthaus.com
SUMMARY:St. Paddy's at Higher Gravity Summit Park
DESCRIPTION:Spend your pot o’ gold on some great specials at Higher Gravity Summit Park this St. Paddy’s day. Doors open at 10am so you can start out with an $8 Irish Coffee or Hot Toddy followed by a $5 Irish Breakfast shot. Stick around or come back later for a $5 draft Guinness\, green beer or Jameson shot.
URL:https://highergravitycrafthaus.com/event/st-paddys-at-higher-gravity-summit-park/
LOCATION:Summit Park\, 10241 Summit Park\, Cincinnati\, OH\, 45242\, United States
ATTACH;FMTTYPE=image/png:https://highergravitycrafthaus.com/wp-content/uploads/2023/03/Thursday-800-×-800-px-1.png
END:VEVENT
BEGIN:VEVENT
DTSTART;TZID=America/New_York:20230316T150000
DTEND;TZID=America/New_York:20230316T180000
DTSTAMP:20260424T120317
CREATED:20230314T173010Z
LAST-MODIFIED:20230314T173248Z
UID:10001844-1678978800-1678989600@highergravitycrafthaus.com
SUMMARY:Happy Hour
DESCRIPTION:Join Higher Gravity in Northside every weekday from 3-6 for Happy Hour. \nHappy hour drink specials include the following: \n\n$1 off all drafts\, including craft beer\, root beer and cold brew coffee\n$2 off house wine pours\n$2 off house cocktails\n\nCheck out our draft list before you come so you can plan your drinks accordingly. \nYou can find our beer menus for both locations here.
URL:https://highergravitycrafthaus.com/event/happy-hour-higher-gravity-northside/2023-03-16/
LOCATION:Northside\, 4106 Hamilton Ave\, Cincinnati\, OH\, 45223\, United States
ATTACH;FMTTYPE=image/jpeg:https://highergravitycrafthaus.com/wp-content/uploads/2022/06/slide-ns_6.jpg
END:VEVENT
BEGIN:VEVENT
DTSTART;TZID=America/New_York:20230316T150000
DTEND;TZID=America/New_York:20230316T180000
DTSTAMP:20260424T120317
CREATED:20230314T120630Z
LAST-MODIFIED:20230314T120630Z
UID:10000538-1678978800-1678989600@highergravitycrafthaus.com
SUMMARY:Happy Hour
DESCRIPTION:Join Higher Gravity Summit Park every weekday from 3-6 for Happy Hour. \nHappy hour drink specials include the following: \n\n$1 off all drafts\, including craft beer\, root beer and cold brew coffee\n$2 off house wine pours\n$2 off house cocktails\n\nCheck out our draft list before you come so you can plan your drinks accordingly. \nYou can find our beer menus for both locations here.
URL:https://highergravitycrafthaus.com/event/happy-hour-higher-gravity/2023-03-16/
LOCATION:Summit Park\, 10241 Summit Park\, Cincinnati\, OH\, 45242\, United States
ATTACH;FMTTYPE=image/png:https://highergravitycrafthaus.com/wp-content/uploads/2023/03/Happy-Thanksgiving.png
END:VEVENT
BEGIN:VEVENT
DTSTART;TZID=America/New_York:20230316T120000
DTEND;TZID=America/New_York:20230403T233000
DTSTAMP:20260424T120317
CREATED:20230313T143825Z
LAST-MODIFIED:20230313T161754Z
UID:10000002-1678968000-1680564600@highergravitycrafthaus.com
SUMMARY:March Madness at Higher Gravity Northside
DESCRIPTION:Join us for every March Madness NCAA Men’s College Basketball game. \nWe will be pouring $15 Lo-G Blonde Ale pitchers\, HG’s house beer.  Additionally\, you can try your luck at a mini pop-a-shot each time you order a new pitcher.  Make the shot and get an extra $3 off your pitcher!
URL:https://highergravitycrafthaus.com/event/march-madness-at-higher-gravity-northside/
LOCATION:Northside\, 4106 Hamilton Ave\, Cincinnati\, OH\, 45223\, United States
END:VEVENT
BEGIN:VEVENT
DTSTART;TZID=America/New_York:20230316T120000
DTEND;TZID=America/New_York:20230403T233000
DTSTAMP:20260424T120317
CREATED:20230313T143504Z
LAST-MODIFIED:20230313T161919Z
UID:10000001-1678968000-1680564600@highergravitycrafthaus.com
SUMMARY:March Madness at Higher Gravity
DESCRIPTION:Join us for every March Madness NCAA Men’s College Basketball game. \nWe will be pouring $15 Lo-G Blonde Ale pitchers\, HG’s house beer.  Additionally\, you can try your luck at a mini pop-a-shot each time you order a new pitcher.  Make the shot and get an extra $3 off your pitcher!
URL:https://highergravitycrafthaus.com/event/march-madness-at-higher-gravity/
LOCATION:Summit Park\, 10241 Summit Park\, Cincinnati\, OH\, 45242\, United States
ATTACH;FMTTYPE=image/jpeg:https://highergravitycrafthaus.com/wp-content/uploads/2023/03/March-Madness-Printable-Mens-Bracket_1.jpg
END:VEVENT
BEGIN:VEVENT
DTSTART;TZID=America/New_York:20230315T150000
DTEND;TZID=America/New_York:20230315T180000
DTSTAMP:20260424T120317
CREATED:20230314T173010Z
LAST-MODIFIED:20230314T173248Z
UID:10001843-1678892400-1678903200@highergravitycrafthaus.com
SUMMARY:Happy Hour
DESCRIPTION:Join Higher Gravity in Northside every weekday from 3-6 for Happy Hour. \nHappy hour drink specials include the following: \n\n$1 off all drafts\, including craft beer\, root beer and cold brew coffee\n$2 off house wine pours\n$2 off house cocktails\n\nCheck out our draft list before you come so you can plan your drinks accordingly. \nYou can find our beer menus for both locations here.
URL:https://highergravitycrafthaus.com/event/happy-hour-higher-gravity-northside/2023-03-15/
LOCATION:Northside\, 4106 Hamilton Ave\, Cincinnati\, OH\, 45223\, United States
ATTACH;FMTTYPE=image/jpeg:https://highergravitycrafthaus.com/wp-content/uploads/2022/06/slide-ns_6.jpg
END:VEVENT
BEGIN:VEVENT
DTSTART;TZID=America/New_York:20230315T150000
DTEND;TZID=America/New_York:20230315T180000
DTSTAMP:20260424T120317
CREATED:20230314T120630Z
LAST-MODIFIED:20230314T120630Z
UID:10000537-1678892400-1678903200@highergravitycrafthaus.com
SUMMARY:Happy Hour
DESCRIPTION:Join Higher Gravity Summit Park every weekday from 3-6 for Happy Hour. \nHappy hour drink specials include the following: \n\n$1 off all drafts\, including craft beer\, root beer and cold brew coffee\n$2 off house wine pours\n$2 off house cocktails\n\nCheck out our draft list before you come so you can plan your drinks accordingly. \nYou can find our beer menus for both locations here.
URL:https://highergravitycrafthaus.com/event/happy-hour-higher-gravity/2023-03-15/
LOCATION:Summit Park\, 10241 Summit Park\, Cincinnati\, OH\, 45242\, United States
ATTACH;FMTTYPE=image/png:https://highergravitycrafthaus.com/wp-content/uploads/2023/03/Happy-Thanksgiving.png
END:VEVENT
BEGIN:VEVENT
DTSTART;TZID=America/New_York:20230314T150000
DTEND;TZID=America/New_York:20230314T180000
DTSTAMP:20260424T120317
CREATED:20230314T173010Z
LAST-MODIFIED:20230314T173248Z
UID:10001842-1678806000-1678816800@highergravitycrafthaus.com
SUMMARY:Happy Hour
DESCRIPTION:Join Higher Gravity in Northside every weekday from 3-6 for Happy Hour. \nHappy hour drink specials include the following: \n\n$1 off all drafts\, including craft beer\, root beer and cold brew coffee\n$2 off house wine pours\n$2 off house cocktails\n\nCheck out our draft list before you come so you can plan your drinks accordingly. \nYou can find our beer menus for both locations here.
URL:https://highergravitycrafthaus.com/event/happy-hour-higher-gravity-northside/2023-03-14/
LOCATION:Northside\, 4106 Hamilton Ave\, Cincinnati\, OH\, 45223\, United States
ATTACH;FMTTYPE=image/jpeg:https://highergravitycrafthaus.com/wp-content/uploads/2022/06/slide-ns_6.jpg
END:VEVENT
BEGIN:VEVENT
DTSTART;TZID=America/New_York:20230314T150000
DTEND;TZID=America/New_York:20230314T180000
DTSTAMP:20260424T120317
CREATED:20230314T120630Z
LAST-MODIFIED:20230314T120630Z
UID:10000536-1678806000-1678816800@highergravitycrafthaus.com
SUMMARY:Happy Hour
DESCRIPTION:Join Higher Gravity Summit Park every weekday from 3-6 for Happy Hour. \nHappy hour drink specials include the following: \n\n$1 off all drafts\, including craft beer\, root beer and cold brew coffee\n$2 off house wine pours\n$2 off house cocktails\n\nCheck out our draft list before you come so you can plan your drinks accordingly. \nYou can find our beer menus for both locations here.
URL:https://highergravitycrafthaus.com/event/happy-hour-higher-gravity/2023-03-14/
LOCATION:Summit Park\, 10241 Summit Park\, Cincinnati\, OH\, 45242\, United States
ATTACH;FMTTYPE=image/png:https://highergravitycrafthaus.com/wp-content/uploads/2023/03/Happy-Thanksgiving.png
END:VEVENT
END:VCALENDAR