BEGIN:VCALENDAR
VERSION:2.0
PRODID:-//Higher Gravity - ECPv6.15.20//NONSGML v1.0//EN
CALSCALE:GREGORIAN
METHOD:PUBLISH
X-WR-CALNAME:Higher Gravity
X-ORIGINAL-URL:https://highergravitycrafthaus.com
X-WR-CALDESC:Events for Higher Gravity
REFRESH-INTERVAL;VALUE=DURATION:PT1H
X-Robots-Tag:noindex
X-PUBLISHED-TTL:PT1H
BEGIN:VTIMEZONE
TZID:America/New_York
BEGIN:DAYLIGHT
TZOFFSETFROM:-0500
TZOFFSETTO:-0400
TZNAME:EDT
DTSTART:20220313T070000
END:DAYLIGHT
BEGIN:STANDARD
TZOFFSETFROM:-0400
TZOFFSETTO:-0500
TZNAME:EST
DTSTART:20221106T060000
END:STANDARD
BEGIN:DAYLIGHT
TZOFFSETFROM:-0500
TZOFFSETTO:-0400
TZNAME:EDT
DTSTART:20230312T070000
END:DAYLIGHT
BEGIN:STANDARD
TZOFFSETFROM:-0400
TZOFFSETTO:-0500
TZNAME:EST
DTSTART:20231105T060000
END:STANDARD
BEGIN:DAYLIGHT
TZOFFSETFROM:-0500
TZOFFSETTO:-0400
TZNAME:EDT
DTSTART:20240310T070000
END:DAYLIGHT
BEGIN:STANDARD
TZOFFSETFROM:-0400
TZOFFSETTO:-0500
TZNAME:EST
DTSTART:20241103T060000
END:STANDARD
END:VTIMEZONE
BEGIN:VEVENT
DTSTART;TZID=America/New_York:20230725T150000
DTEND;TZID=America/New_York:20230725T180000
DTSTAMP:20260423T090609
CREATED:20230314T173010Z
LAST-MODIFIED:20230314T173248Z
UID:10001937-1690297200-1690308000@highergravitycrafthaus.com
SUMMARY:Happy Hour
DESCRIPTION:Join Higher Gravity in Northside every weekday from 3-6 for Happy Hour. \nHappy hour drink specials include the following: \n\n$1 off all drafts\, including craft beer\, root beer and cold brew coffee\n$2 off house wine pours\n$2 off house cocktails\n\nCheck out our draft list before you come so you can plan your drinks accordingly. \nYou can find our beer menus for both locations here.
URL:https://highergravitycrafthaus.com/event/happy-hour-higher-gravity-northside/2023-07-25/
LOCATION:Northside\, 4106 Hamilton Ave\, Cincinnati\, OH\, 45223\, United States
ATTACH;FMTTYPE=image/jpeg:https://highergravitycrafthaus.com/wp-content/uploads/2022/06/slide-ns_6.jpg
END:VEVENT
BEGIN:VEVENT
DTSTART;TZID=America/New_York:20230725T150000
DTEND;TZID=America/New_York:20230725T180000
DTSTAMP:20260423T090609
CREATED:20230314T120630Z
LAST-MODIFIED:20230314T120630Z
UID:10000631-1690297200-1690308000@highergravitycrafthaus.com
SUMMARY:Happy Hour
DESCRIPTION:Join Higher Gravity Summit Park every weekday from 3-6 for Happy Hour. \nHappy hour drink specials include the following: \n\n$1 off all drafts\, including craft beer\, root beer and cold brew coffee\n$2 off house wine pours\n$2 off house cocktails\n\nCheck out our draft list before you come so you can plan your drinks accordingly. \nYou can find our beer menus for both locations here.
URL:https://highergravitycrafthaus.com/event/happy-hour-higher-gravity/2023-07-25/
LOCATION:Summit Park\, 10241 Summit Park\, Cincinnati\, OH\, 45242\, United States
ATTACH;FMTTYPE=image/png:https://highergravitycrafthaus.com/wp-content/uploads/2023/03/Happy-Thanksgiving.png
END:VEVENT
BEGIN:VEVENT
DTSTART;TZID=America/New_York:20230724T150000
DTEND;TZID=America/New_York:20230724T180000
DTSTAMP:20260423T090609
CREATED:20230314T173010Z
LAST-MODIFIED:20230314T173248Z
UID:10001936-1690210800-1690221600@highergravitycrafthaus.com
SUMMARY:Happy Hour
DESCRIPTION:Join Higher Gravity in Northside every weekday from 3-6 for Happy Hour. \nHappy hour drink specials include the following: \n\n$1 off all drafts\, including craft beer\, root beer and cold brew coffee\n$2 off house wine pours\n$2 off house cocktails\n\nCheck out our draft list before you come so you can plan your drinks accordingly. \nYou can find our beer menus for both locations here.
URL:https://highergravitycrafthaus.com/event/happy-hour-higher-gravity-northside/2023-07-24/
LOCATION:Northside\, 4106 Hamilton Ave\, Cincinnati\, OH\, 45223\, United States
ATTACH;FMTTYPE=image/jpeg:https://highergravitycrafthaus.com/wp-content/uploads/2022/06/slide-ns_6.jpg
END:VEVENT
BEGIN:VEVENT
DTSTART;TZID=America/New_York:20230724T150000
DTEND;TZID=America/New_York:20230724T180000
DTSTAMP:20260423T090609
CREATED:20230314T120630Z
LAST-MODIFIED:20230314T120630Z
UID:10000630-1690210800-1690221600@highergravitycrafthaus.com
SUMMARY:Happy Hour
DESCRIPTION:Join Higher Gravity Summit Park every weekday from 3-6 for Happy Hour. \nHappy hour drink specials include the following: \n\n$1 off all drafts\, including craft beer\, root beer and cold brew coffee\n$2 off house wine pours\n$2 off house cocktails\n\nCheck out our draft list before you come so you can plan your drinks accordingly. \nYou can find our beer menus for both locations here.
URL:https://highergravitycrafthaus.com/event/happy-hour-higher-gravity/2023-07-24/
LOCATION:Summit Park\, 10241 Summit Park\, Cincinnati\, OH\, 45242\, United States
ATTACH;FMTTYPE=image/png:https://highergravitycrafthaus.com/wp-content/uploads/2023/03/Happy-Thanksgiving.png
END:VEVENT
BEGIN:VEVENT
DTSTART;TZID=America/New_York:20230721T210000
DTEND;TZID=America/New_York:20230721T230000
DTSTAMP:20260423T090609
CREATED:20230626T171243Z
LAST-MODIFIED:20230626T171243Z
UID:10003169-1689973200-1689980400@highergravitycrafthaus.com
SUMMARY:2023 FIFA Women's World Cup
DESCRIPTION:Join us 7/21 (Friday) and 7/26 (Wednesday) to watch the USA Women’s team embark on the road to the World Cup. \nBoth games start at 9pm and will be accompanied by sound and good beer.
URL:https://highergravitycrafthaus.com/event/2023-fifa-womens-world-cup/2023-07-21/
LOCATION:Summit Park\, 10241 Summit Park\, Cincinnati\, OH\, 45242\, United States
ATTACH;FMTTYPE=image/jpeg:https://highergravitycrafthaus.com/wp-content/uploads/2023/06/1160608491.jpg.0.jpg
END:VEVENT
BEGIN:VEVENT
DTSTART;TZID=America/New_York:20230721T150000
DTEND;TZID=America/New_York:20230721T180000
DTSTAMP:20260423T090609
CREATED:20230314T173010Z
LAST-MODIFIED:20230314T173248Z
UID:10001935-1689951600-1689962400@highergravitycrafthaus.com
SUMMARY:Happy Hour
DESCRIPTION:Join Higher Gravity in Northside every weekday from 3-6 for Happy Hour. \nHappy hour drink specials include the following: \n\n$1 off all drafts\, including craft beer\, root beer and cold brew coffee\n$2 off house wine pours\n$2 off house cocktails\n\nCheck out our draft list before you come so you can plan your drinks accordingly. \nYou can find our beer menus for both locations here.
URL:https://highergravitycrafthaus.com/event/happy-hour-higher-gravity-northside/2023-07-21/
LOCATION:Northside\, 4106 Hamilton Ave\, Cincinnati\, OH\, 45223\, United States
ATTACH;FMTTYPE=image/jpeg:https://highergravitycrafthaus.com/wp-content/uploads/2022/06/slide-ns_6.jpg
END:VEVENT
BEGIN:VEVENT
DTSTART;TZID=America/New_York:20230721T150000
DTEND;TZID=America/New_York:20230721T180000
DTSTAMP:20260423T090609
CREATED:20230314T120630Z
LAST-MODIFIED:20230314T120630Z
UID:10000629-1689951600-1689962400@highergravitycrafthaus.com
SUMMARY:Happy Hour
DESCRIPTION:Join Higher Gravity Summit Park every weekday from 3-6 for Happy Hour. \nHappy hour drink specials include the following: \n\n$1 off all drafts\, including craft beer\, root beer and cold brew coffee\n$2 off house wine pours\n$2 off house cocktails\n\nCheck out our draft list before you come so you can plan your drinks accordingly. \nYou can find our beer menus for both locations here.
URL:https://highergravitycrafthaus.com/event/happy-hour-higher-gravity/2023-07-21/
LOCATION:Summit Park\, 10241 Summit Park\, Cincinnati\, OH\, 45242\, United States
ATTACH;FMTTYPE=image/png:https://highergravitycrafthaus.com/wp-content/uploads/2023/03/Happy-Thanksgiving.png
END:VEVENT
BEGIN:VEVENT
DTSTART;TZID=America/New_York:20230720T190000
DTEND;TZID=America/New_York:20230720T210000
DTSTAMP:20260423T090609
CREATED:20230313T144345Z
LAST-MODIFIED:20250806T140313Z
UID:10000021-1689879600-1689886800@highergravitycrafthaus.com
SUMMARY:Pub Trivia @ Higher Gravity Summit Park
DESCRIPTION:Join HG Summit Park every Thursday from 7:00 – 9:00 for pub trivia. \n\n4 rounds of general knowledge trivia produced & hosted in-house by the Higher Gravity staff\nPrizes for 1st\, 2nd and 3rd place!\nDrink specials including $1 off all drafts\, including draft:\n\nCraft Beer\nWine\nKombucha\nNitro Coffee\nRoot Beer\n\n\n\nCan’t make it to Summit Park on Thursdays? Come visit us for trivia in Northside every Tuesday!
URL:https://highergravitycrafthaus.com/event/pub-trivia-higher-gravity-summit-park/2023-07-20/
LOCATION:Summit Park\, 10241 Summit Park\, Cincinnati\, OH\, 45242\, United States
ATTACH;FMTTYPE=image/png:https://highergravitycrafthaus.com/wp-content/uploads/2023/03/TR-1-1.png
END:VEVENT
BEGIN:VEVENT
DTSTART;TZID=America/New_York:20230720T150000
DTEND;TZID=America/New_York:20230720T180000
DTSTAMP:20260423T090609
CREATED:20230314T173010Z
LAST-MODIFIED:20230314T173248Z
UID:10001934-1689865200-1689876000@highergravitycrafthaus.com
SUMMARY:Happy Hour
DESCRIPTION:Join Higher Gravity in Northside every weekday from 3-6 for Happy Hour. \nHappy hour drink specials include the following: \n\n$1 off all drafts\, including craft beer\, root beer and cold brew coffee\n$2 off house wine pours\n$2 off house cocktails\n\nCheck out our draft list before you come so you can plan your drinks accordingly. \nYou can find our beer menus for both locations here.
URL:https://highergravitycrafthaus.com/event/happy-hour-higher-gravity-northside/2023-07-20/
LOCATION:Northside\, 4106 Hamilton Ave\, Cincinnati\, OH\, 45223\, United States
ATTACH;FMTTYPE=image/jpeg:https://highergravitycrafthaus.com/wp-content/uploads/2022/06/slide-ns_6.jpg
END:VEVENT
BEGIN:VEVENT
DTSTART;TZID=America/New_York:20230720T150000
DTEND;TZID=America/New_York:20230720T180000
DTSTAMP:20260423T090609
CREATED:20230314T120630Z
LAST-MODIFIED:20230314T120630Z
UID:10000628-1689865200-1689876000@highergravitycrafthaus.com
SUMMARY:Happy Hour
DESCRIPTION:Join Higher Gravity Summit Park every weekday from 3-6 for Happy Hour. \nHappy hour drink specials include the following: \n\n$1 off all drafts\, including craft beer\, root beer and cold brew coffee\n$2 off house wine pours\n$2 off house cocktails\n\nCheck out our draft list before you come so you can plan your drinks accordingly. \nYou can find our beer menus for both locations here.
URL:https://highergravitycrafthaus.com/event/happy-hour-higher-gravity/2023-07-20/
LOCATION:Summit Park\, 10241 Summit Park\, Cincinnati\, OH\, 45242\, United States
ATTACH;FMTTYPE=image/png:https://highergravitycrafthaus.com/wp-content/uploads/2023/03/Happy-Thanksgiving.png
END:VEVENT
BEGIN:VEVENT
DTSTART;TZID=America/New_York:20230719T150000
DTEND;TZID=America/New_York:20230719T180000
DTSTAMP:20260423T090609
CREATED:20230314T173010Z
LAST-MODIFIED:20230314T173248Z
UID:10001933-1689778800-1689789600@highergravitycrafthaus.com
SUMMARY:Happy Hour
DESCRIPTION:Join Higher Gravity in Northside every weekday from 3-6 for Happy Hour. \nHappy hour drink specials include the following: \n\n$1 off all drafts\, including craft beer\, root beer and cold brew coffee\n$2 off house wine pours\n$2 off house cocktails\n\nCheck out our draft list before you come so you can plan your drinks accordingly. \nYou can find our beer menus for both locations here.
URL:https://highergravitycrafthaus.com/event/happy-hour-higher-gravity-northside/2023-07-19/
LOCATION:Northside\, 4106 Hamilton Ave\, Cincinnati\, OH\, 45223\, United States
ATTACH;FMTTYPE=image/jpeg:https://highergravitycrafthaus.com/wp-content/uploads/2022/06/slide-ns_6.jpg
END:VEVENT
BEGIN:VEVENT
DTSTART;TZID=America/New_York:20230719T150000
DTEND;TZID=America/New_York:20230719T180000
DTSTAMP:20260423T090609
CREATED:20230314T120630Z
LAST-MODIFIED:20230314T120630Z
UID:10000627-1689778800-1689789600@highergravitycrafthaus.com
SUMMARY:Happy Hour
DESCRIPTION:Join Higher Gravity Summit Park every weekday from 3-6 for Happy Hour. \nHappy hour drink specials include the following: \n\n$1 off all drafts\, including craft beer\, root beer and cold brew coffee\n$2 off house wine pours\n$2 off house cocktails\n\nCheck out our draft list before you come so you can plan your drinks accordingly. \nYou can find our beer menus for both locations here.
URL:https://highergravitycrafthaus.com/event/happy-hour-higher-gravity/2023-07-19/
LOCATION:Summit Park\, 10241 Summit Park\, Cincinnati\, OH\, 45242\, United States
ATTACH;FMTTYPE=image/png:https://highergravitycrafthaus.com/wp-content/uploads/2023/03/Happy-Thanksgiving.png
END:VEVENT
BEGIN:VEVENT
DTSTART;TZID=America/New_York:20230718T150000
DTEND;TZID=America/New_York:20230718T180000
DTSTAMP:20260423T090609
CREATED:20230314T173010Z
LAST-MODIFIED:20230314T173248Z
UID:10001932-1689692400-1689703200@highergravitycrafthaus.com
SUMMARY:Happy Hour
DESCRIPTION:Join Higher Gravity in Northside every weekday from 3-6 for Happy Hour. \nHappy hour drink specials include the following: \n\n$1 off all drafts\, including craft beer\, root beer and cold brew coffee\n$2 off house wine pours\n$2 off house cocktails\n\nCheck out our draft list before you come so you can plan your drinks accordingly. \nYou can find our beer menus for both locations here.
URL:https://highergravitycrafthaus.com/event/happy-hour-higher-gravity-northside/2023-07-18/
LOCATION:Northside\, 4106 Hamilton Ave\, Cincinnati\, OH\, 45223\, United States
ATTACH;FMTTYPE=image/jpeg:https://highergravitycrafthaus.com/wp-content/uploads/2022/06/slide-ns_6.jpg
END:VEVENT
BEGIN:VEVENT
DTSTART;TZID=America/New_York:20230718T150000
DTEND;TZID=America/New_York:20230718T180000
DTSTAMP:20260423T090609
CREATED:20230314T120630Z
LAST-MODIFIED:20230314T120630Z
UID:10000626-1689692400-1689703200@highergravitycrafthaus.com
SUMMARY:Happy Hour
DESCRIPTION:Join Higher Gravity Summit Park every weekday from 3-6 for Happy Hour. \nHappy hour drink specials include the following: \n\n$1 off all drafts\, including craft beer\, root beer and cold brew coffee\n$2 off house wine pours\n$2 off house cocktails\n\nCheck out our draft list before you come so you can plan your drinks accordingly. \nYou can find our beer menus for both locations here.
URL:https://highergravitycrafthaus.com/event/happy-hour-higher-gravity/2023-07-18/
LOCATION:Summit Park\, 10241 Summit Park\, Cincinnati\, OH\, 45242\, United States
ATTACH;FMTTYPE=image/png:https://highergravitycrafthaus.com/wp-content/uploads/2023/03/Happy-Thanksgiving.png
END:VEVENT
BEGIN:VEVENT
DTSTART;TZID=America/New_York:20230717T150000
DTEND;TZID=America/New_York:20230717T180000
DTSTAMP:20260423T090609
CREATED:20230314T173010Z
LAST-MODIFIED:20230314T173248Z
UID:10001931-1689606000-1689616800@highergravitycrafthaus.com
SUMMARY:Happy Hour
DESCRIPTION:Join Higher Gravity in Northside every weekday from 3-6 for Happy Hour. \nHappy hour drink specials include the following: \n\n$1 off all drafts\, including craft beer\, root beer and cold brew coffee\n$2 off house wine pours\n$2 off house cocktails\n\nCheck out our draft list before you come so you can plan your drinks accordingly. \nYou can find our beer menus for both locations here.
URL:https://highergravitycrafthaus.com/event/happy-hour-higher-gravity-northside/2023-07-17/
LOCATION:Northside\, 4106 Hamilton Ave\, Cincinnati\, OH\, 45223\, United States
ATTACH;FMTTYPE=image/jpeg:https://highergravitycrafthaus.com/wp-content/uploads/2022/06/slide-ns_6.jpg
END:VEVENT
BEGIN:VEVENT
DTSTART;TZID=America/New_York:20230717T150000
DTEND;TZID=America/New_York:20230717T180000
DTSTAMP:20260423T090609
CREATED:20230314T120630Z
LAST-MODIFIED:20230314T120630Z
UID:10000625-1689606000-1689616800@highergravitycrafthaus.com
SUMMARY:Happy Hour
DESCRIPTION:Join Higher Gravity Summit Park every weekday from 3-6 for Happy Hour. \nHappy hour drink specials include the following: \n\n$1 off all drafts\, including craft beer\, root beer and cold brew coffee\n$2 off house wine pours\n$2 off house cocktails\n\nCheck out our draft list before you come so you can plan your drinks accordingly. \nYou can find our beer menus for both locations here.
URL:https://highergravitycrafthaus.com/event/happy-hour-higher-gravity/2023-07-17/
LOCATION:Summit Park\, 10241 Summit Park\, Cincinnati\, OH\, 45242\, United States
ATTACH;FMTTYPE=image/png:https://highergravitycrafthaus.com/wp-content/uploads/2023/03/Happy-Thanksgiving.png
END:VEVENT
BEGIN:VEVENT
DTSTART;TZID=America/New_York:20230714T150000
DTEND;TZID=America/New_York:20230714T180000
DTSTAMP:20260423T090609
CREATED:20230314T173010Z
LAST-MODIFIED:20230314T173248Z
UID:10001930-1689346800-1689357600@highergravitycrafthaus.com
SUMMARY:Happy Hour
DESCRIPTION:Join Higher Gravity in Northside every weekday from 3-6 for Happy Hour. \nHappy hour drink specials include the following: \n\n$1 off all drafts\, including craft beer\, root beer and cold brew coffee\n$2 off house wine pours\n$2 off house cocktails\n\nCheck out our draft list before you come so you can plan your drinks accordingly. \nYou can find our beer menus for both locations here.
URL:https://highergravitycrafthaus.com/event/happy-hour-higher-gravity-northside/2023-07-14/
LOCATION:Northside\, 4106 Hamilton Ave\, Cincinnati\, OH\, 45223\, United States
ATTACH;FMTTYPE=image/jpeg:https://highergravitycrafthaus.com/wp-content/uploads/2022/06/slide-ns_6.jpg
END:VEVENT
BEGIN:VEVENT
DTSTART;TZID=America/New_York:20230714T150000
DTEND;TZID=America/New_York:20230714T180000
DTSTAMP:20260423T090609
CREATED:20230314T120630Z
LAST-MODIFIED:20230314T120630Z
UID:10000624-1689346800-1689357600@highergravitycrafthaus.com
SUMMARY:Happy Hour
DESCRIPTION:Join Higher Gravity Summit Park every weekday from 3-6 for Happy Hour. \nHappy hour drink specials include the following: \n\n$1 off all drafts\, including craft beer\, root beer and cold brew coffee\n$2 off house wine pours\n$2 off house cocktails\n\nCheck out our draft list before you come so you can plan your drinks accordingly. \nYou can find our beer menus for both locations here.
URL:https://highergravitycrafthaus.com/event/happy-hour-higher-gravity/2023-07-14/
LOCATION:Summit Park\, 10241 Summit Park\, Cincinnati\, OH\, 45242\, United States
ATTACH;FMTTYPE=image/png:https://highergravitycrafthaus.com/wp-content/uploads/2023/03/Happy-Thanksgiving.png
END:VEVENT
BEGIN:VEVENT
DTSTART;TZID=America/New_York:20230713T190000
DTEND;TZID=America/New_York:20230713T210000
DTSTAMP:20260423T090609
CREATED:20230313T144345Z
LAST-MODIFIED:20250806T140313Z
UID:10000020-1689274800-1689282000@highergravitycrafthaus.com
SUMMARY:Pub Trivia @ Higher Gravity Summit Park
DESCRIPTION:Join HG Summit Park every Thursday from 7:00 – 9:00 for pub trivia. \n\n4 rounds of general knowledge trivia produced & hosted in-house by the Higher Gravity staff\nPrizes for 1st\, 2nd and 3rd place!\nDrink specials including $1 off all drafts\, including draft:\n\nCraft Beer\nWine\nKombucha\nNitro Coffee\nRoot Beer\n\n\n\nCan’t make it to Summit Park on Thursdays? Come visit us for trivia in Northside every Tuesday!
URL:https://highergravitycrafthaus.com/event/pub-trivia-higher-gravity-summit-park/2023-07-13/
LOCATION:Summit Park\, 10241 Summit Park\, Cincinnati\, OH\, 45242\, United States
ATTACH;FMTTYPE=image/png:https://highergravitycrafthaus.com/wp-content/uploads/2023/03/TR-1-1.png
END:VEVENT
BEGIN:VEVENT
DTSTART;TZID=America/New_York:20230713T150000
DTEND;TZID=America/New_York:20230713T180000
DTSTAMP:20260423T090609
CREATED:20230314T173010Z
LAST-MODIFIED:20230314T173248Z
UID:10001929-1689260400-1689271200@highergravitycrafthaus.com
SUMMARY:Happy Hour
DESCRIPTION:Join Higher Gravity in Northside every weekday from 3-6 for Happy Hour. \nHappy hour drink specials include the following: \n\n$1 off all drafts\, including craft beer\, root beer and cold brew coffee\n$2 off house wine pours\n$2 off house cocktails\n\nCheck out our draft list before you come so you can plan your drinks accordingly. \nYou can find our beer menus for both locations here.
URL:https://highergravitycrafthaus.com/event/happy-hour-higher-gravity-northside/2023-07-13/
LOCATION:Northside\, 4106 Hamilton Ave\, Cincinnati\, OH\, 45223\, United States
ATTACH;FMTTYPE=image/jpeg:https://highergravitycrafthaus.com/wp-content/uploads/2022/06/slide-ns_6.jpg
END:VEVENT
BEGIN:VEVENT
DTSTART;TZID=America/New_York:20230713T150000
DTEND;TZID=America/New_York:20230713T180000
DTSTAMP:20260423T090609
CREATED:20230314T120630Z
LAST-MODIFIED:20230314T120630Z
UID:10000623-1689260400-1689271200@highergravitycrafthaus.com
SUMMARY:Happy Hour
DESCRIPTION:Join Higher Gravity Summit Park every weekday from 3-6 for Happy Hour. \nHappy hour drink specials include the following: \n\n$1 off all drafts\, including craft beer\, root beer and cold brew coffee\n$2 off house wine pours\n$2 off house cocktails\n\nCheck out our draft list before you come so you can plan your drinks accordingly. \nYou can find our beer menus for both locations here.
URL:https://highergravitycrafthaus.com/event/happy-hour-higher-gravity/2023-07-13/
LOCATION:Summit Park\, 10241 Summit Park\, Cincinnati\, OH\, 45242\, United States
ATTACH;FMTTYPE=image/png:https://highergravitycrafthaus.com/wp-content/uploads/2023/03/Happy-Thanksgiving.png
END:VEVENT
BEGIN:VEVENT
DTSTART;TZID=America/New_York:20230712T150000
DTEND;TZID=America/New_York:20230712T180000
DTSTAMP:20260423T090609
CREATED:20230314T173010Z
LAST-MODIFIED:20230314T173248Z
UID:10001928-1689174000-1689184800@highergravitycrafthaus.com
SUMMARY:Happy Hour
DESCRIPTION:Join Higher Gravity in Northside every weekday from 3-6 for Happy Hour. \nHappy hour drink specials include the following: \n\n$1 off all drafts\, including craft beer\, root beer and cold brew coffee\n$2 off house wine pours\n$2 off house cocktails\n\nCheck out our draft list before you come so you can plan your drinks accordingly. \nYou can find our beer menus for both locations here.
URL:https://highergravitycrafthaus.com/event/happy-hour-higher-gravity-northside/2023-07-12/
LOCATION:Northside\, 4106 Hamilton Ave\, Cincinnati\, OH\, 45223\, United States
ATTACH;FMTTYPE=image/jpeg:https://highergravitycrafthaus.com/wp-content/uploads/2022/06/slide-ns_6.jpg
END:VEVENT
BEGIN:VEVENT
DTSTART;TZID=America/New_York:20230712T150000
DTEND;TZID=America/New_York:20230712T180000
DTSTAMP:20260423T090609
CREATED:20230314T120630Z
LAST-MODIFIED:20230314T120630Z
UID:10000622-1689174000-1689184800@highergravitycrafthaus.com
SUMMARY:Happy Hour
DESCRIPTION:Join Higher Gravity Summit Park every weekday from 3-6 for Happy Hour. \nHappy hour drink specials include the following: \n\n$1 off all drafts\, including craft beer\, root beer and cold brew coffee\n$2 off house wine pours\n$2 off house cocktails\n\nCheck out our draft list before you come so you can plan your drinks accordingly. \nYou can find our beer menus for both locations here.
URL:https://highergravitycrafthaus.com/event/happy-hour-higher-gravity/2023-07-12/
LOCATION:Summit Park\, 10241 Summit Park\, Cincinnati\, OH\, 45242\, United States
ATTACH;FMTTYPE=image/png:https://highergravitycrafthaus.com/wp-content/uploads/2023/03/Happy-Thanksgiving.png
END:VEVENT
BEGIN:VEVENT
DTSTART;TZID=America/New_York:20230711T150000
DTEND;TZID=America/New_York:20230711T180000
DTSTAMP:20260423T090609
CREATED:20230314T173010Z
LAST-MODIFIED:20230314T173248Z
UID:10001927-1689087600-1689098400@highergravitycrafthaus.com
SUMMARY:Happy Hour
DESCRIPTION:Join Higher Gravity in Northside every weekday from 3-6 for Happy Hour. \nHappy hour drink specials include the following: \n\n$1 off all drafts\, including craft beer\, root beer and cold brew coffee\n$2 off house wine pours\n$2 off house cocktails\n\nCheck out our draft list before you come so you can plan your drinks accordingly. \nYou can find our beer menus for both locations here.
URL:https://highergravitycrafthaus.com/event/happy-hour-higher-gravity-northside/2023-07-11/
LOCATION:Northside\, 4106 Hamilton Ave\, Cincinnati\, OH\, 45223\, United States
ATTACH;FMTTYPE=image/jpeg:https://highergravitycrafthaus.com/wp-content/uploads/2022/06/slide-ns_6.jpg
END:VEVENT
BEGIN:VEVENT
DTSTART;TZID=America/New_York:20230711T150000
DTEND;TZID=America/New_York:20230711T180000
DTSTAMP:20260423T090609
CREATED:20230314T120630Z
LAST-MODIFIED:20230314T120630Z
UID:10000621-1689087600-1689098400@highergravitycrafthaus.com
SUMMARY:Happy Hour
DESCRIPTION:Join Higher Gravity Summit Park every weekday from 3-6 for Happy Hour. \nHappy hour drink specials include the following: \n\n$1 off all drafts\, including craft beer\, root beer and cold brew coffee\n$2 off house wine pours\n$2 off house cocktails\n\nCheck out our draft list before you come so you can plan your drinks accordingly. \nYou can find our beer menus for both locations here.
URL:https://highergravitycrafthaus.com/event/happy-hour-higher-gravity/2023-07-11/
LOCATION:Summit Park\, 10241 Summit Park\, Cincinnati\, OH\, 45242\, United States
ATTACH;FMTTYPE=image/png:https://highergravitycrafthaus.com/wp-content/uploads/2023/03/Happy-Thanksgiving.png
END:VEVENT
BEGIN:VEVENT
DTSTART;TZID=America/New_York:20230710T150000
DTEND;TZID=America/New_York:20230710T180000
DTSTAMP:20260423T090609
CREATED:20230314T173010Z
LAST-MODIFIED:20230314T173248Z
UID:10001926-1689001200-1689012000@highergravitycrafthaus.com
SUMMARY:Happy Hour
DESCRIPTION:Join Higher Gravity in Northside every weekday from 3-6 for Happy Hour. \nHappy hour drink specials include the following: \n\n$1 off all drafts\, including craft beer\, root beer and cold brew coffee\n$2 off house wine pours\n$2 off house cocktails\n\nCheck out our draft list before you come so you can plan your drinks accordingly. \nYou can find our beer menus for both locations here.
URL:https://highergravitycrafthaus.com/event/happy-hour-higher-gravity-northside/2023-07-10/
LOCATION:Northside\, 4106 Hamilton Ave\, Cincinnati\, OH\, 45223\, United States
ATTACH;FMTTYPE=image/jpeg:https://highergravitycrafthaus.com/wp-content/uploads/2022/06/slide-ns_6.jpg
END:VEVENT
BEGIN:VEVENT
DTSTART;TZID=America/New_York:20230710T150000
DTEND;TZID=America/New_York:20230710T180000
DTSTAMP:20260423T090609
CREATED:20230314T120630Z
LAST-MODIFIED:20230314T120630Z
UID:10000620-1689001200-1689012000@highergravitycrafthaus.com
SUMMARY:Happy Hour
DESCRIPTION:Join Higher Gravity Summit Park every weekday from 3-6 for Happy Hour. \nHappy hour drink specials include the following: \n\n$1 off all drafts\, including craft beer\, root beer and cold brew coffee\n$2 off house wine pours\n$2 off house cocktails\n\nCheck out our draft list before you come so you can plan your drinks accordingly. \nYou can find our beer menus for both locations here.
URL:https://highergravitycrafthaus.com/event/happy-hour-higher-gravity/2023-07-10/
LOCATION:Summit Park\, 10241 Summit Park\, Cincinnati\, OH\, 45242\, United States
ATTACH;FMTTYPE=image/png:https://highergravitycrafthaus.com/wp-content/uploads/2023/03/Happy-Thanksgiving.png
END:VEVENT
BEGIN:VEVENT
DTSTART;TZID=America/New_York:20230707T150000
DTEND;TZID=America/New_York:20230707T180000
DTSTAMP:20260423T090609
CREATED:20230314T173010Z
LAST-MODIFIED:20230314T173248Z
UID:10001925-1688742000-1688752800@highergravitycrafthaus.com
SUMMARY:Happy Hour
DESCRIPTION:Join Higher Gravity in Northside every weekday from 3-6 for Happy Hour. \nHappy hour drink specials include the following: \n\n$1 off all drafts\, including craft beer\, root beer and cold brew coffee\n$2 off house wine pours\n$2 off house cocktails\n\nCheck out our draft list before you come so you can plan your drinks accordingly. \nYou can find our beer menus for both locations here.
URL:https://highergravitycrafthaus.com/event/happy-hour-higher-gravity-northside/2023-07-07/
LOCATION:Northside\, 4106 Hamilton Ave\, Cincinnati\, OH\, 45223\, United States
ATTACH;FMTTYPE=image/jpeg:https://highergravitycrafthaus.com/wp-content/uploads/2022/06/slide-ns_6.jpg
END:VEVENT
BEGIN:VEVENT
DTSTART;TZID=America/New_York:20230707T150000
DTEND;TZID=America/New_York:20230707T180000
DTSTAMP:20260423T090609
CREATED:20230314T120630Z
LAST-MODIFIED:20230314T120630Z
UID:10000619-1688742000-1688752800@highergravitycrafthaus.com
SUMMARY:Happy Hour
DESCRIPTION:Join Higher Gravity Summit Park every weekday from 3-6 for Happy Hour. \nHappy hour drink specials include the following: \n\n$1 off all drafts\, including craft beer\, root beer and cold brew coffee\n$2 off house wine pours\n$2 off house cocktails\n\nCheck out our draft list before you come so you can plan your drinks accordingly. \nYou can find our beer menus for both locations here.
URL:https://highergravitycrafthaus.com/event/happy-hour-higher-gravity/2023-07-07/
LOCATION:Summit Park\, 10241 Summit Park\, Cincinnati\, OH\, 45242\, United States
ATTACH;FMTTYPE=image/png:https://highergravitycrafthaus.com/wp-content/uploads/2023/03/Happy-Thanksgiving.png
END:VEVENT
BEGIN:VEVENT
DTSTART;TZID=America/New_York:20230706T190000
DTEND;TZID=America/New_York:20230706T210000
DTSTAMP:20260423T090609
CREATED:20230313T144345Z
LAST-MODIFIED:20250806T140313Z
UID:10000019-1688670000-1688677200@highergravitycrafthaus.com
SUMMARY:Pub Trivia @ Higher Gravity Summit Park
DESCRIPTION:Join HG Summit Park every Thursday from 7:00 – 9:00 for pub trivia. \n\n4 rounds of general knowledge trivia produced & hosted in-house by the Higher Gravity staff\nPrizes for 1st\, 2nd and 3rd place!\nDrink specials including $1 off all drafts\, including draft:\n\nCraft Beer\nWine\nKombucha\nNitro Coffee\nRoot Beer\n\n\n\nCan’t make it to Summit Park on Thursdays? Come visit us for trivia in Northside every Tuesday!
URL:https://highergravitycrafthaus.com/event/pub-trivia-higher-gravity-summit-park/2023-07-06/
LOCATION:Summit Park\, 10241 Summit Park\, Cincinnati\, OH\, 45242\, United States
ATTACH;FMTTYPE=image/png:https://highergravitycrafthaus.com/wp-content/uploads/2023/03/TR-1-1.png
END:VEVENT
END:VCALENDAR