BEGIN:VCALENDAR
VERSION:2.0
PRODID:-//Higher Gravity - ECPv6.15.20//NONSGML v1.0//EN
CALSCALE:GREGORIAN
METHOD:PUBLISH
X-WR-CALNAME:Higher Gravity
X-ORIGINAL-URL:https://highergravitycrafthaus.com
X-WR-CALDESC:Events for Higher Gravity
REFRESH-INTERVAL;VALUE=DURATION:PT1H
X-Robots-Tag:noindex
X-PUBLISHED-TTL:PT1H
BEGIN:VTIMEZONE
TZID:America/New_York
BEGIN:DAYLIGHT
TZOFFSETFROM:-0500
TZOFFSETTO:-0400
TZNAME:EDT
DTSTART:20220313T070000
END:DAYLIGHT
BEGIN:STANDARD
TZOFFSETFROM:-0400
TZOFFSETTO:-0500
TZNAME:EST
DTSTART:20221106T060000
END:STANDARD
BEGIN:DAYLIGHT
TZOFFSETFROM:-0500
TZOFFSETTO:-0400
TZNAME:EDT
DTSTART:20230312T070000
END:DAYLIGHT
BEGIN:STANDARD
TZOFFSETFROM:-0400
TZOFFSETTO:-0500
TZNAME:EST
DTSTART:20231105T060000
END:STANDARD
BEGIN:DAYLIGHT
TZOFFSETFROM:-0500
TZOFFSETTO:-0400
TZNAME:EDT
DTSTART:20240310T070000
END:DAYLIGHT
BEGIN:STANDARD
TZOFFSETFROM:-0400
TZOFFSETTO:-0500
TZNAME:EST
DTSTART:20241103T060000
END:STANDARD
END:VTIMEZONE
BEGIN:VEVENT
DTSTART;TZID=America/New_York:20230816T150000
DTEND;TZID=America/New_York:20230816T180000
DTSTAMP:20260423T045006
CREATED:20230314T120630Z
LAST-MODIFIED:20230314T120630Z
UID:10000647-1692198000-1692208800@highergravitycrafthaus.com
SUMMARY:Happy Hour
DESCRIPTION:Join Higher Gravity Summit Park every weekday from 3-6 for Happy Hour. \nHappy hour drink specials include the following: \n\n$1 off all drafts\, including craft beer\, root beer and cold brew coffee\n$2 off house wine pours\n$2 off house cocktails\n\nCheck out our draft list before you come so you can plan your drinks accordingly. \nYou can find our beer menus for both locations here.
URL:https://highergravitycrafthaus.com/event/happy-hour-higher-gravity/2023-08-16/
LOCATION:Summit Park\, 10241 Summit Park\, Cincinnati\, OH\, 45242\, United States
ATTACH;FMTTYPE=image/png:https://highergravitycrafthaus.com/wp-content/uploads/2023/03/Happy-Thanksgiving.png
END:VEVENT
BEGIN:VEVENT
DTSTART;TZID=America/New_York:20230815T150000
DTEND;TZID=America/New_York:20230815T180000
DTSTAMP:20260423T045006
CREATED:20230314T173010Z
LAST-MODIFIED:20230314T173248Z
UID:10001952-1692111600-1692122400@highergravitycrafthaus.com
SUMMARY:Happy Hour
DESCRIPTION:Join Higher Gravity in Northside every weekday from 3-6 for Happy Hour. \nHappy hour drink specials include the following: \n\n$1 off all drafts\, including craft beer\, root beer and cold brew coffee\n$2 off house wine pours\n$2 off house cocktails\n\nCheck out our draft list before you come so you can plan your drinks accordingly. \nYou can find our beer menus for both locations here.
URL:https://highergravitycrafthaus.com/event/happy-hour-higher-gravity-northside/2023-08-15/
LOCATION:Northside\, 4106 Hamilton Ave\, Cincinnati\, OH\, 45223\, United States
ATTACH;FMTTYPE=image/jpeg:https://highergravitycrafthaus.com/wp-content/uploads/2022/06/slide-ns_6.jpg
END:VEVENT
BEGIN:VEVENT
DTSTART;TZID=America/New_York:20230815T150000
DTEND;TZID=America/New_York:20230815T180000
DTSTAMP:20260423T045006
CREATED:20230314T120630Z
LAST-MODIFIED:20230314T120630Z
UID:10000646-1692111600-1692122400@highergravitycrafthaus.com
SUMMARY:Happy Hour
DESCRIPTION:Join Higher Gravity Summit Park every weekday from 3-6 for Happy Hour. \nHappy hour drink specials include the following: \n\n$1 off all drafts\, including craft beer\, root beer and cold brew coffee\n$2 off house wine pours\n$2 off house cocktails\n\nCheck out our draft list before you come so you can plan your drinks accordingly. \nYou can find our beer menus for both locations here.
URL:https://highergravitycrafthaus.com/event/happy-hour-higher-gravity/2023-08-15/
LOCATION:Summit Park\, 10241 Summit Park\, Cincinnati\, OH\, 45242\, United States
ATTACH;FMTTYPE=image/png:https://highergravitycrafthaus.com/wp-content/uploads/2023/03/Happy-Thanksgiving.png
END:VEVENT
BEGIN:VEVENT
DTSTART;TZID=America/New_York:20230814T150000
DTEND;TZID=America/New_York:20230814T180000
DTSTAMP:20260423T045006
CREATED:20230314T173010Z
LAST-MODIFIED:20230314T173248Z
UID:10001951-1692025200-1692036000@highergravitycrafthaus.com
SUMMARY:Happy Hour
DESCRIPTION:Join Higher Gravity in Northside every weekday from 3-6 for Happy Hour. \nHappy hour drink specials include the following: \n\n$1 off all drafts\, including craft beer\, root beer and cold brew coffee\n$2 off house wine pours\n$2 off house cocktails\n\nCheck out our draft list before you come so you can plan your drinks accordingly. \nYou can find our beer menus for both locations here.
URL:https://highergravitycrafthaus.com/event/happy-hour-higher-gravity-northside/2023-08-14/
LOCATION:Northside\, 4106 Hamilton Ave\, Cincinnati\, OH\, 45223\, United States
ATTACH;FMTTYPE=image/jpeg:https://highergravitycrafthaus.com/wp-content/uploads/2022/06/slide-ns_6.jpg
END:VEVENT
BEGIN:VEVENT
DTSTART;TZID=America/New_York:20230814T150000
DTEND;TZID=America/New_York:20230814T180000
DTSTAMP:20260423T045006
CREATED:20230314T120630Z
LAST-MODIFIED:20230314T120630Z
UID:10000645-1692025200-1692036000@highergravitycrafthaus.com
SUMMARY:Happy Hour
DESCRIPTION:Join Higher Gravity Summit Park every weekday from 3-6 for Happy Hour. \nHappy hour drink specials include the following: \n\n$1 off all drafts\, including craft beer\, root beer and cold brew coffee\n$2 off house wine pours\n$2 off house cocktails\n\nCheck out our draft list before you come so you can plan your drinks accordingly. \nYou can find our beer menus for both locations here.
URL:https://highergravitycrafthaus.com/event/happy-hour-higher-gravity/2023-08-14/
LOCATION:Summit Park\, 10241 Summit Park\, Cincinnati\, OH\, 45242\, United States
ATTACH;FMTTYPE=image/png:https://highergravitycrafthaus.com/wp-content/uploads/2023/03/Happy-Thanksgiving.png
END:VEVENT
BEGIN:VEVENT
DTSTART;TZID=America/New_York:20230811T190000
DTEND;TZID=America/New_York:20230811T220000
DTSTAMP:20260423T045006
CREATED:20230729T192208Z
LAST-MODIFIED:20230729T192208Z
UID:10003171-1691780400-1691791200@highergravitycrafthaus.com
SUMMARY:Bengals Watch Parties
DESCRIPTION:Hey Cincy! Join us in Summit Park this football season to cheer on the Bengals.\n\nOn Saturdays and Sundays from noon – close\, grab a bucket of High Noons for $25 or a Lo-G Pitcher for $15.\n***The same specials will apply during any weekday games.\n\nBring your crew and some takeout and kick it with us!
URL:https://highergravitycrafthaus.com/event/bengals-watch-parties/2023-08-11/
LOCATION:Summit Park\, 10241 Summit Park\, Cincinnati\, OH\, 45242\, United States
CATEGORIES:Sports Bar
END:VEVENT
BEGIN:VEVENT
DTSTART;TZID=America/New_York:20230811T150000
DTEND;TZID=America/New_York:20230811T180000
DTSTAMP:20260423T045006
CREATED:20230314T173010Z
LAST-MODIFIED:20230314T173248Z
UID:10001950-1691766000-1691776800@highergravitycrafthaus.com
SUMMARY:Happy Hour
DESCRIPTION:Join Higher Gravity in Northside every weekday from 3-6 for Happy Hour. \nHappy hour drink specials include the following: \n\n$1 off all drafts\, including craft beer\, root beer and cold brew coffee\n$2 off house wine pours\n$2 off house cocktails\n\nCheck out our draft list before you come so you can plan your drinks accordingly. \nYou can find our beer menus for both locations here.
URL:https://highergravitycrafthaus.com/event/happy-hour-higher-gravity-northside/2023-08-11/
LOCATION:Northside\, 4106 Hamilton Ave\, Cincinnati\, OH\, 45223\, United States
ATTACH;FMTTYPE=image/jpeg:https://highergravitycrafthaus.com/wp-content/uploads/2022/06/slide-ns_6.jpg
END:VEVENT
BEGIN:VEVENT
DTSTART;TZID=America/New_York:20230811T150000
DTEND;TZID=America/New_York:20230811T180000
DTSTAMP:20260423T045006
CREATED:20230314T120630Z
LAST-MODIFIED:20230314T120630Z
UID:10000644-1691766000-1691776800@highergravitycrafthaus.com
SUMMARY:Happy Hour
DESCRIPTION:Join Higher Gravity Summit Park every weekday from 3-6 for Happy Hour. \nHappy hour drink specials include the following: \n\n$1 off all drafts\, including craft beer\, root beer and cold brew coffee\n$2 off house wine pours\n$2 off house cocktails\n\nCheck out our draft list before you come so you can plan your drinks accordingly. \nYou can find our beer menus for both locations here.
URL:https://highergravitycrafthaus.com/event/happy-hour-higher-gravity/2023-08-11/
LOCATION:Summit Park\, 10241 Summit Park\, Cincinnati\, OH\, 45242\, United States
ATTACH;FMTTYPE=image/png:https://highergravitycrafthaus.com/wp-content/uploads/2023/03/Happy-Thanksgiving.png
END:VEVENT
BEGIN:VEVENT
DTSTART;TZID=America/New_York:20230810T190000
DTEND;TZID=America/New_York:20230810T210000
DTSTAMP:20260423T045006
CREATED:20230313T144345Z
LAST-MODIFIED:20250806T140313Z
UID:10000024-1691694000-1691701200@highergravitycrafthaus.com
SUMMARY:Pub Trivia @ Higher Gravity Summit Park
DESCRIPTION:Join HG Summit Park every Thursday from 7:00 – 9:00 for pub trivia. \n\n4 rounds of general knowledge trivia produced & hosted in-house by the Higher Gravity staff\nPrizes for 1st\, 2nd and 3rd place!\nDrink specials including $1 off all drafts\, including draft:\n\nCraft Beer\nWine\nKombucha\nNitro Coffee\nRoot Beer\n\n\n\nCan’t make it to Summit Park on Thursdays? Come visit us for trivia in Northside every Tuesday!
URL:https://highergravitycrafthaus.com/event/pub-trivia-higher-gravity-summit-park/2023-08-10/
LOCATION:Summit Park\, 10241 Summit Park\, Cincinnati\, OH\, 45242\, United States
ATTACH;FMTTYPE=image/png:https://highergravitycrafthaus.com/wp-content/uploads/2023/03/TR-1-1.png
END:VEVENT
BEGIN:VEVENT
DTSTART;TZID=America/New_York:20230810T150000
DTEND;TZID=America/New_York:20230810T180000
DTSTAMP:20260423T045006
CREATED:20230314T173010Z
LAST-MODIFIED:20230314T173248Z
UID:10001949-1691679600-1691690400@highergravitycrafthaus.com
SUMMARY:Happy Hour
DESCRIPTION:Join Higher Gravity in Northside every weekday from 3-6 for Happy Hour. \nHappy hour drink specials include the following: \n\n$1 off all drafts\, including craft beer\, root beer and cold brew coffee\n$2 off house wine pours\n$2 off house cocktails\n\nCheck out our draft list before you come so you can plan your drinks accordingly. \nYou can find our beer menus for both locations here.
URL:https://highergravitycrafthaus.com/event/happy-hour-higher-gravity-northside/2023-08-10/
LOCATION:Northside\, 4106 Hamilton Ave\, Cincinnati\, OH\, 45223\, United States
ATTACH;FMTTYPE=image/jpeg:https://highergravitycrafthaus.com/wp-content/uploads/2022/06/slide-ns_6.jpg
END:VEVENT
BEGIN:VEVENT
DTSTART;TZID=America/New_York:20230810T150000
DTEND;TZID=America/New_York:20230810T180000
DTSTAMP:20260423T045006
CREATED:20230314T120630Z
LAST-MODIFIED:20230314T120630Z
UID:10000643-1691679600-1691690400@highergravitycrafthaus.com
SUMMARY:Happy Hour
DESCRIPTION:Join Higher Gravity Summit Park every weekday from 3-6 for Happy Hour. \nHappy hour drink specials include the following: \n\n$1 off all drafts\, including craft beer\, root beer and cold brew coffee\n$2 off house wine pours\n$2 off house cocktails\n\nCheck out our draft list before you come so you can plan your drinks accordingly. \nYou can find our beer menus for both locations here.
URL:https://highergravitycrafthaus.com/event/happy-hour-higher-gravity/2023-08-10/
LOCATION:Summit Park\, 10241 Summit Park\, Cincinnati\, OH\, 45242\, United States
ATTACH;FMTTYPE=image/png:https://highergravitycrafthaus.com/wp-content/uploads/2023/03/Happy-Thanksgiving.png
END:VEVENT
BEGIN:VEVENT
DTSTART;TZID=America/New_York:20230809T150000
DTEND;TZID=America/New_York:20230809T180000
DTSTAMP:20260423T045006
CREATED:20230314T173010Z
LAST-MODIFIED:20230314T173248Z
UID:10001948-1691593200-1691604000@highergravitycrafthaus.com
SUMMARY:Happy Hour
DESCRIPTION:Join Higher Gravity in Northside every weekday from 3-6 for Happy Hour. \nHappy hour drink specials include the following: \n\n$1 off all drafts\, including craft beer\, root beer and cold brew coffee\n$2 off house wine pours\n$2 off house cocktails\n\nCheck out our draft list before you come so you can plan your drinks accordingly. \nYou can find our beer menus for both locations here.
URL:https://highergravitycrafthaus.com/event/happy-hour-higher-gravity-northside/2023-08-09/
LOCATION:Northside\, 4106 Hamilton Ave\, Cincinnati\, OH\, 45223\, United States
ATTACH;FMTTYPE=image/jpeg:https://highergravitycrafthaus.com/wp-content/uploads/2022/06/slide-ns_6.jpg
END:VEVENT
BEGIN:VEVENT
DTSTART;TZID=America/New_York:20230809T150000
DTEND;TZID=America/New_York:20230809T180000
DTSTAMP:20260423T045006
CREATED:20230314T120630Z
LAST-MODIFIED:20230314T120630Z
UID:10000642-1691593200-1691604000@highergravitycrafthaus.com
SUMMARY:Happy Hour
DESCRIPTION:Join Higher Gravity Summit Park every weekday from 3-6 for Happy Hour. \nHappy hour drink specials include the following: \n\n$1 off all drafts\, including craft beer\, root beer and cold brew coffee\n$2 off house wine pours\n$2 off house cocktails\n\nCheck out our draft list before you come so you can plan your drinks accordingly. \nYou can find our beer menus for both locations here.
URL:https://highergravitycrafthaus.com/event/happy-hour-higher-gravity/2023-08-09/
LOCATION:Summit Park\, 10241 Summit Park\, Cincinnati\, OH\, 45242\, United States
ATTACH;FMTTYPE=image/png:https://highergravitycrafthaus.com/wp-content/uploads/2023/03/Happy-Thanksgiving.png
END:VEVENT
BEGIN:VEVENT
DTSTART;TZID=America/New_York:20230808T150000
DTEND;TZID=America/New_York:20230808T180000
DTSTAMP:20260423T045006
CREATED:20230314T173010Z
LAST-MODIFIED:20230314T173248Z
UID:10001947-1691506800-1691517600@highergravitycrafthaus.com
SUMMARY:Happy Hour
DESCRIPTION:Join Higher Gravity in Northside every weekday from 3-6 for Happy Hour. \nHappy hour drink specials include the following: \n\n$1 off all drafts\, including craft beer\, root beer and cold brew coffee\n$2 off house wine pours\n$2 off house cocktails\n\nCheck out our draft list before you come so you can plan your drinks accordingly. \nYou can find our beer menus for both locations here.
URL:https://highergravitycrafthaus.com/event/happy-hour-higher-gravity-northside/2023-08-08/
LOCATION:Northside\, 4106 Hamilton Ave\, Cincinnati\, OH\, 45223\, United States
ATTACH;FMTTYPE=image/jpeg:https://highergravitycrafthaus.com/wp-content/uploads/2022/06/slide-ns_6.jpg
END:VEVENT
BEGIN:VEVENT
DTSTART;TZID=America/New_York:20230808T150000
DTEND;TZID=America/New_York:20230808T180000
DTSTAMP:20260423T045006
CREATED:20230314T120630Z
LAST-MODIFIED:20230314T120630Z
UID:10000641-1691506800-1691517600@highergravitycrafthaus.com
SUMMARY:Happy Hour
DESCRIPTION:Join Higher Gravity Summit Park every weekday from 3-6 for Happy Hour. \nHappy hour drink specials include the following: \n\n$1 off all drafts\, including craft beer\, root beer and cold brew coffee\n$2 off house wine pours\n$2 off house cocktails\n\nCheck out our draft list before you come so you can plan your drinks accordingly. \nYou can find our beer menus for both locations here.
URL:https://highergravitycrafthaus.com/event/happy-hour-higher-gravity/2023-08-08/
LOCATION:Summit Park\, 10241 Summit Park\, Cincinnati\, OH\, 45242\, United States
ATTACH;FMTTYPE=image/png:https://highergravitycrafthaus.com/wp-content/uploads/2023/03/Happy-Thanksgiving.png
END:VEVENT
BEGIN:VEVENT
DTSTART;TZID=America/New_York:20230807T150000
DTEND;TZID=America/New_York:20230807T180000
DTSTAMP:20260423T045006
CREATED:20230314T173010Z
LAST-MODIFIED:20230314T173248Z
UID:10001946-1691420400-1691431200@highergravitycrafthaus.com
SUMMARY:Happy Hour
DESCRIPTION:Join Higher Gravity in Northside every weekday from 3-6 for Happy Hour. \nHappy hour drink specials include the following: \n\n$1 off all drafts\, including craft beer\, root beer and cold brew coffee\n$2 off house wine pours\n$2 off house cocktails\n\nCheck out our draft list before you come so you can plan your drinks accordingly. \nYou can find our beer menus for both locations here.
URL:https://highergravitycrafthaus.com/event/happy-hour-higher-gravity-northside/2023-08-07/
LOCATION:Northside\, 4106 Hamilton Ave\, Cincinnati\, OH\, 45223\, United States
ATTACH;FMTTYPE=image/jpeg:https://highergravitycrafthaus.com/wp-content/uploads/2022/06/slide-ns_6.jpg
END:VEVENT
BEGIN:VEVENT
DTSTART;TZID=America/New_York:20230807T150000
DTEND;TZID=America/New_York:20230807T180000
DTSTAMP:20260423T045006
CREATED:20230314T120630Z
LAST-MODIFIED:20230314T120630Z
UID:10000640-1691420400-1691431200@highergravitycrafthaus.com
SUMMARY:Happy Hour
DESCRIPTION:Join Higher Gravity Summit Park every weekday from 3-6 for Happy Hour. \nHappy hour drink specials include the following: \n\n$1 off all drafts\, including craft beer\, root beer and cold brew coffee\n$2 off house wine pours\n$2 off house cocktails\n\nCheck out our draft list before you come so you can plan your drinks accordingly. \nYou can find our beer menus for both locations here.
URL:https://highergravitycrafthaus.com/event/happy-hour-higher-gravity/2023-08-07/
LOCATION:Summit Park\, 10241 Summit Park\, Cincinnati\, OH\, 45242\, United States
ATTACH;FMTTYPE=image/png:https://highergravitycrafthaus.com/wp-content/uploads/2023/03/Happy-Thanksgiving.png
END:VEVENT
BEGIN:VEVENT
DTSTART;TZID=America/New_York:20230804T150000
DTEND;TZID=America/New_York:20230804T180000
DTSTAMP:20260423T045006
CREATED:20230314T173010Z
LAST-MODIFIED:20230314T173248Z
UID:10001945-1691161200-1691172000@highergravitycrafthaus.com
SUMMARY:Happy Hour
DESCRIPTION:Join Higher Gravity in Northside every weekday from 3-6 for Happy Hour. \nHappy hour drink specials include the following: \n\n$1 off all drafts\, including craft beer\, root beer and cold brew coffee\n$2 off house wine pours\n$2 off house cocktails\n\nCheck out our draft list before you come so you can plan your drinks accordingly. \nYou can find our beer menus for both locations here.
URL:https://highergravitycrafthaus.com/event/happy-hour-higher-gravity-northside/2023-08-04/
LOCATION:Northside\, 4106 Hamilton Ave\, Cincinnati\, OH\, 45223\, United States
ATTACH;FMTTYPE=image/jpeg:https://highergravitycrafthaus.com/wp-content/uploads/2022/06/slide-ns_6.jpg
END:VEVENT
BEGIN:VEVENT
DTSTART;TZID=America/New_York:20230804T150000
DTEND;TZID=America/New_York:20230804T180000
DTSTAMP:20260423T045006
CREATED:20230314T120630Z
LAST-MODIFIED:20230314T120630Z
UID:10000639-1691161200-1691172000@highergravitycrafthaus.com
SUMMARY:Happy Hour
DESCRIPTION:Join Higher Gravity Summit Park every weekday from 3-6 for Happy Hour. \nHappy hour drink specials include the following: \n\n$1 off all drafts\, including craft beer\, root beer and cold brew coffee\n$2 off house wine pours\n$2 off house cocktails\n\nCheck out our draft list before you come so you can plan your drinks accordingly. \nYou can find our beer menus for both locations here.
URL:https://highergravitycrafthaus.com/event/happy-hour-higher-gravity/2023-08-04/
LOCATION:Summit Park\, 10241 Summit Park\, Cincinnati\, OH\, 45242\, United States
ATTACH;FMTTYPE=image/png:https://highergravitycrafthaus.com/wp-content/uploads/2023/03/Happy-Thanksgiving.png
END:VEVENT
BEGIN:VEVENT
DTSTART;TZID=America/New_York:20230803T190000
DTEND;TZID=America/New_York:20230803T210000
DTSTAMP:20260423T045006
CREATED:20230313T144345Z
LAST-MODIFIED:20250806T140313Z
UID:10000023-1691089200-1691096400@highergravitycrafthaus.com
SUMMARY:Pub Trivia @ Higher Gravity Summit Park
DESCRIPTION:Join HG Summit Park every Thursday from 7:00 – 9:00 for pub trivia. \n\n4 rounds of general knowledge trivia produced & hosted in-house by the Higher Gravity staff\nPrizes for 1st\, 2nd and 3rd place!\nDrink specials including $1 off all drafts\, including draft:\n\nCraft Beer\nWine\nKombucha\nNitro Coffee\nRoot Beer\n\n\n\nCan’t make it to Summit Park on Thursdays? Come visit us for trivia in Northside every Tuesday!
URL:https://highergravitycrafthaus.com/event/pub-trivia-higher-gravity-summit-park/2023-08-03/
LOCATION:Summit Park\, 10241 Summit Park\, Cincinnati\, OH\, 45242\, United States
ATTACH;FMTTYPE=image/png:https://highergravitycrafthaus.com/wp-content/uploads/2023/03/TR-1-1.png
END:VEVENT
BEGIN:VEVENT
DTSTART;TZID=America/New_York:20230803T150000
DTEND;TZID=America/New_York:20230803T180000
DTSTAMP:20260423T045006
CREATED:20230314T173010Z
LAST-MODIFIED:20230314T173248Z
UID:10001944-1691074800-1691085600@highergravitycrafthaus.com
SUMMARY:Happy Hour
DESCRIPTION:Join Higher Gravity in Northside every weekday from 3-6 for Happy Hour. \nHappy hour drink specials include the following: \n\n$1 off all drafts\, including craft beer\, root beer and cold brew coffee\n$2 off house wine pours\n$2 off house cocktails\n\nCheck out our draft list before you come so you can plan your drinks accordingly. \nYou can find our beer menus for both locations here.
URL:https://highergravitycrafthaus.com/event/happy-hour-higher-gravity-northside/2023-08-03/
LOCATION:Northside\, 4106 Hamilton Ave\, Cincinnati\, OH\, 45223\, United States
ATTACH;FMTTYPE=image/jpeg:https://highergravitycrafthaus.com/wp-content/uploads/2022/06/slide-ns_6.jpg
END:VEVENT
BEGIN:VEVENT
DTSTART;TZID=America/New_York:20230803T150000
DTEND;TZID=America/New_York:20230803T180000
DTSTAMP:20260423T045006
CREATED:20230314T120630Z
LAST-MODIFIED:20230314T120630Z
UID:10000638-1691074800-1691085600@highergravitycrafthaus.com
SUMMARY:Happy Hour
DESCRIPTION:Join Higher Gravity Summit Park every weekday from 3-6 for Happy Hour. \nHappy hour drink specials include the following: \n\n$1 off all drafts\, including craft beer\, root beer and cold brew coffee\n$2 off house wine pours\n$2 off house cocktails\n\nCheck out our draft list before you come so you can plan your drinks accordingly. \nYou can find our beer menus for both locations here.
URL:https://highergravitycrafthaus.com/event/happy-hour-higher-gravity/2023-08-03/
LOCATION:Summit Park\, 10241 Summit Park\, Cincinnati\, OH\, 45242\, United States
ATTACH;FMTTYPE=image/png:https://highergravitycrafthaus.com/wp-content/uploads/2023/03/Happy-Thanksgiving.png
END:VEVENT
BEGIN:VEVENT
DTSTART;TZID=America/New_York:20230802T150000
DTEND;TZID=America/New_York:20230802T180000
DTSTAMP:20260423T045006
CREATED:20230314T173010Z
LAST-MODIFIED:20230314T173248Z
UID:10001943-1690988400-1690999200@highergravitycrafthaus.com
SUMMARY:Happy Hour
DESCRIPTION:Join Higher Gravity in Northside every weekday from 3-6 for Happy Hour. \nHappy hour drink specials include the following: \n\n$1 off all drafts\, including craft beer\, root beer and cold brew coffee\n$2 off house wine pours\n$2 off house cocktails\n\nCheck out our draft list before you come so you can plan your drinks accordingly. \nYou can find our beer menus for both locations here.
URL:https://highergravitycrafthaus.com/event/happy-hour-higher-gravity-northside/2023-08-02/
LOCATION:Northside\, 4106 Hamilton Ave\, Cincinnati\, OH\, 45223\, United States
ATTACH;FMTTYPE=image/jpeg:https://highergravitycrafthaus.com/wp-content/uploads/2022/06/slide-ns_6.jpg
END:VEVENT
BEGIN:VEVENT
DTSTART;TZID=America/New_York:20230802T150000
DTEND;TZID=America/New_York:20230802T180000
DTSTAMP:20260423T045006
CREATED:20230314T120630Z
LAST-MODIFIED:20230314T120630Z
UID:10000637-1690988400-1690999200@highergravitycrafthaus.com
SUMMARY:Happy Hour
DESCRIPTION:Join Higher Gravity Summit Park every weekday from 3-6 for Happy Hour. \nHappy hour drink specials include the following: \n\n$1 off all drafts\, including craft beer\, root beer and cold brew coffee\n$2 off house wine pours\n$2 off house cocktails\n\nCheck out our draft list before you come so you can plan your drinks accordingly. \nYou can find our beer menus for both locations here.
URL:https://highergravitycrafthaus.com/event/happy-hour-higher-gravity/2023-08-02/
LOCATION:Summit Park\, 10241 Summit Park\, Cincinnati\, OH\, 45242\, United States
ATTACH;FMTTYPE=image/png:https://highergravitycrafthaus.com/wp-content/uploads/2023/03/Happy-Thanksgiving.png
END:VEVENT
BEGIN:VEVENT
DTSTART;TZID=America/New_York:20230801T150000
DTEND;TZID=America/New_York:20230801T180000
DTSTAMP:20260423T045006
CREATED:20230314T173010Z
LAST-MODIFIED:20230314T173248Z
UID:10001942-1690902000-1690912800@highergravitycrafthaus.com
SUMMARY:Happy Hour
DESCRIPTION:Join Higher Gravity in Northside every weekday from 3-6 for Happy Hour. \nHappy hour drink specials include the following: \n\n$1 off all drafts\, including craft beer\, root beer and cold brew coffee\n$2 off house wine pours\n$2 off house cocktails\n\nCheck out our draft list before you come so you can plan your drinks accordingly. \nYou can find our beer menus for both locations here.
URL:https://highergravitycrafthaus.com/event/happy-hour-higher-gravity-northside/2023-08-01/
LOCATION:Northside\, 4106 Hamilton Ave\, Cincinnati\, OH\, 45223\, United States
ATTACH;FMTTYPE=image/jpeg:https://highergravitycrafthaus.com/wp-content/uploads/2022/06/slide-ns_6.jpg
END:VEVENT
BEGIN:VEVENT
DTSTART;TZID=America/New_York:20230801T150000
DTEND;TZID=America/New_York:20230801T180000
DTSTAMP:20260423T045006
CREATED:20230314T120630Z
LAST-MODIFIED:20230314T120630Z
UID:10000636-1690902000-1690912800@highergravitycrafthaus.com
SUMMARY:Happy Hour
DESCRIPTION:Join Higher Gravity Summit Park every weekday from 3-6 for Happy Hour. \nHappy hour drink specials include the following: \n\n$1 off all drafts\, including craft beer\, root beer and cold brew coffee\n$2 off house wine pours\n$2 off house cocktails\n\nCheck out our draft list before you come so you can plan your drinks accordingly. \nYou can find our beer menus for both locations here.
URL:https://highergravitycrafthaus.com/event/happy-hour-higher-gravity/2023-08-01/
LOCATION:Summit Park\, 10241 Summit Park\, Cincinnati\, OH\, 45242\, United States
ATTACH;FMTTYPE=image/png:https://highergravitycrafthaus.com/wp-content/uploads/2023/03/Happy-Thanksgiving.png
END:VEVENT
BEGIN:VEVENT
DTSTART;TZID=America/New_York:20230731T150000
DTEND;TZID=America/New_York:20230731T180000
DTSTAMP:20260423T045006
CREATED:20230314T173010Z
LAST-MODIFIED:20230314T173248Z
UID:10001941-1690815600-1690826400@highergravitycrafthaus.com
SUMMARY:Happy Hour
DESCRIPTION:Join Higher Gravity in Northside every weekday from 3-6 for Happy Hour. \nHappy hour drink specials include the following: \n\n$1 off all drafts\, including craft beer\, root beer and cold brew coffee\n$2 off house wine pours\n$2 off house cocktails\n\nCheck out our draft list before you come so you can plan your drinks accordingly. \nYou can find our beer menus for both locations here.
URL:https://highergravitycrafthaus.com/event/happy-hour-higher-gravity-northside/2023-07-31/
LOCATION:Northside\, 4106 Hamilton Ave\, Cincinnati\, OH\, 45223\, United States
ATTACH;FMTTYPE=image/jpeg:https://highergravitycrafthaus.com/wp-content/uploads/2022/06/slide-ns_6.jpg
END:VEVENT
BEGIN:VEVENT
DTSTART;TZID=America/New_York:20230731T150000
DTEND;TZID=America/New_York:20230731T180000
DTSTAMP:20260423T045006
CREATED:20230314T120630Z
LAST-MODIFIED:20230314T120630Z
UID:10000635-1690815600-1690826400@highergravitycrafthaus.com
SUMMARY:Happy Hour
DESCRIPTION:Join Higher Gravity Summit Park every weekday from 3-6 for Happy Hour. \nHappy hour drink specials include the following: \n\n$1 off all drafts\, including craft beer\, root beer and cold brew coffee\n$2 off house wine pours\n$2 off house cocktails\n\nCheck out our draft list before you come so you can plan your drinks accordingly. \nYou can find our beer menus for both locations here.
URL:https://highergravitycrafthaus.com/event/happy-hour-higher-gravity/2023-07-31/
LOCATION:Summit Park\, 10241 Summit Park\, Cincinnati\, OH\, 45242\, United States
ATTACH;FMTTYPE=image/png:https://highergravitycrafthaus.com/wp-content/uploads/2023/03/Happy-Thanksgiving.png
END:VEVENT
BEGIN:VEVENT
DTSTART;TZID=America/New_York:20230728T150000
DTEND;TZID=America/New_York:20230728T180000
DTSTAMP:20260423T045006
CREATED:20230314T173010Z
LAST-MODIFIED:20230314T173248Z
UID:10001940-1690556400-1690567200@highergravitycrafthaus.com
SUMMARY:Happy Hour
DESCRIPTION:Join Higher Gravity in Northside every weekday from 3-6 for Happy Hour. \nHappy hour drink specials include the following: \n\n$1 off all drafts\, including craft beer\, root beer and cold brew coffee\n$2 off house wine pours\n$2 off house cocktails\n\nCheck out our draft list before you come so you can plan your drinks accordingly. \nYou can find our beer menus for both locations here.
URL:https://highergravitycrafthaus.com/event/happy-hour-higher-gravity-northside/2023-07-28/
LOCATION:Northside\, 4106 Hamilton Ave\, Cincinnati\, OH\, 45223\, United States
ATTACH;FMTTYPE=image/jpeg:https://highergravitycrafthaus.com/wp-content/uploads/2022/06/slide-ns_6.jpg
END:VEVENT
BEGIN:VEVENT
DTSTART;TZID=America/New_York:20230728T150000
DTEND;TZID=America/New_York:20230728T180000
DTSTAMP:20260423T045006
CREATED:20230314T120630Z
LAST-MODIFIED:20230314T120630Z
UID:10000634-1690556400-1690567200@highergravitycrafthaus.com
SUMMARY:Happy Hour
DESCRIPTION:Join Higher Gravity Summit Park every weekday from 3-6 for Happy Hour. \nHappy hour drink specials include the following: \n\n$1 off all drafts\, including craft beer\, root beer and cold brew coffee\n$2 off house wine pours\n$2 off house cocktails\n\nCheck out our draft list before you come so you can plan your drinks accordingly. \nYou can find our beer menus for both locations here.
URL:https://highergravitycrafthaus.com/event/happy-hour-higher-gravity/2023-07-28/
LOCATION:Summit Park\, 10241 Summit Park\, Cincinnati\, OH\, 45242\, United States
ATTACH;FMTTYPE=image/png:https://highergravitycrafthaus.com/wp-content/uploads/2023/03/Happy-Thanksgiving.png
END:VEVENT
END:VCALENDAR