BEGIN:VCALENDAR
VERSION:2.0
PRODID:-//Higher Gravity - ECPv6.15.20//NONSGML v1.0//EN
CALSCALE:GREGORIAN
METHOD:PUBLISH
X-WR-CALNAME:Higher Gravity
X-ORIGINAL-URL:https://highergravitycrafthaus.com
X-WR-CALDESC:Events for Higher Gravity
REFRESH-INTERVAL;VALUE=DURATION:PT1H
X-Robots-Tag:noindex
X-PUBLISHED-TTL:PT1H
BEGIN:VTIMEZONE
TZID:America/New_York
BEGIN:DAYLIGHT
TZOFFSETFROM:-0500
TZOFFSETTO:-0400
TZNAME:EDT
DTSTART:20220313T070000
END:DAYLIGHT
BEGIN:STANDARD
TZOFFSETFROM:-0400
TZOFFSETTO:-0500
TZNAME:EST
DTSTART:20221106T060000
END:STANDARD
BEGIN:DAYLIGHT
TZOFFSETFROM:-0500
TZOFFSETTO:-0400
TZNAME:EDT
DTSTART:20230312T070000
END:DAYLIGHT
BEGIN:STANDARD
TZOFFSETFROM:-0400
TZOFFSETTO:-0500
TZNAME:EST
DTSTART:20231105T060000
END:STANDARD
BEGIN:DAYLIGHT
TZOFFSETFROM:-0500
TZOFFSETTO:-0400
TZNAME:EDT
DTSTART:20240310T070000
END:DAYLIGHT
BEGIN:STANDARD
TZOFFSETFROM:-0400
TZOFFSETTO:-0500
TZNAME:EST
DTSTART:20241103T060000
END:STANDARD
END:VTIMEZONE
BEGIN:VEVENT
DTSTART;TZID=America/New_York:20231007T110000
DTEND;TZID=America/New_York:20231007T170000
DTSTAMP:20260423T192742
CREATED:20230810T180130Z
LAST-MODIFIED:20230811T171721Z
UID:10003192-1696676400-1696698000@highergravitycrafthaus.com
SUMMARY:Brew Ash Beer Run
DESCRIPTION:Join us on Saturday October 7\, 2023 @ 11:00am for the first annual Brew Ash Beer Run in partnership with the City of Blue Ash\, Fretboard Brewing\, Fleet Feet Cincy\, and Fifty West.\n\nCheck out all the details and purchase your tickets here:\nhttps://higher-gravity.square.site/…/BrewAshBeerRun/6657\n\n\nWhat: A 5k (3.1 mile) fun run / walk with beers at Summit Park. Race includes:\n— 3 beers (1 beer each from the Higher Gravity\, Fretboard and Fifty West tents setup at the beginning\, midway point\, and end of the course)\n— Unique race medal\n— Free post-race Yoga session with Stacy from 12:30 – 1:30 pm\n— Raffle prizes\n— Marked course all within the Summit Park DORA area\n— See race map here: https://www.plotaroute.com/route/2333976\n— A portion of the proceeds from the race will be donated to the Sycamore Water Polo Team.\n\nWhen: Saturday\, October 7\, 2023 at 11:00am.\nPre-race check-in will be held at Higher Gravity on Friday\, October 6 from 5pm – 7pm and starting at 9:30 am on Saturday\, October 7.\nWhere: Summit Park Great Lawn (4335 Glendale Milford Rd\, Blue Ash\, OH 45242)\nBe sure to stick around the park after the run / walk to enjoy the Brew Ash Festivities hosted by the City of Blue Ash\, Fretboard and Higher Gravity. Festivities include:\n— Large selection of craft beer and seltzers\n— Yard games in the park\n— Food trucks\n— 2 bands (stay tuned for the City’s band announcement at a later date)
URL:https://highergravitycrafthaus.com/event/brew-ash-beer-run/
LOCATION:Summit Park\, 10241 Summit Park\, Cincinnati\, OH\, 45242\, United States
CATEGORIES:Summit Park Events
ATTACH;FMTTYPE=image/jpeg:https://highergravitycrafthaus.com/wp-content/uploads/2023/08/Brewash-Beer-Run-Wide-scaled.jpg
END:VEVENT
BEGIN:VEVENT
DTSTART;TZID=America/New_York:20231013T200000
DTEND;TZID=America/New_York:20231013T235900
DTSTAMP:20260423T192742
CREATED:20230824T190217Z
LAST-MODIFIED:20230824T190217Z
UID:10003454-1697227200-1697241540@highergravitycrafthaus.com
SUMMARY:Spooky Summit Cinema: Hocus Pocus
DESCRIPTION:Come out for Summit Cinema October 13th and be sure to locate our beer booth in the park for some DORA drinks! \n“Experience the ultimate Halloween-themed evening at Spooky Summit Cinema sponsored by Toyota on Friday\, October 13. Indulge in the fan-favorite Halloween flick\, Hocus Pocus. Savor a creatively crafted DORA beverage from Higher Gravity\, and relish in sinister concessions from Nanny Belle’s. This hauntingly delightful night promises fun\, laughter\, and an unforgettable experience under the moonlit sky.”
URL:https://highergravitycrafthaus.com/event/spooky-summit-cinema-hocus-pocus/
LOCATION:Summit Park\, 10241 Summit Park\, Cincinnati\, OH\, 45242\, United States
CATEGORIES:Summit Park Events
ATTACH;FMTTYPE=image/jpeg:https://highergravitycrafthaus.com/wp-content/uploads/2023/08/366360776_786368856822309_6981502279739242569_n.jpg
END:VEVENT
END:VCALENDAR